BEGIN:VCALENDAR
VERSION:2.0
PRODID:-//SINDSEG MG/GO/MT/DF - ECPv6.15.20//NONSGML v1.0//EN
CALSCALE:GREGORIAN
METHOD:PUBLISH
X-WR-CALNAME:SINDSEG MG/GO/MT/DF
X-ORIGINAL-URL:https://sindsegmd.com.br
X-WR-CALDESC:Eventos para SINDSEG MG/GO/MT/DF
REFRESH-INTERVAL;VALUE=DURATION:PT1H
X-Robots-Tag:noindex
X-PUBLISHED-TTL:PT1H
BEGIN:VTIMEZONE
TZID:America/Sao_Paulo
BEGIN:STANDARD
TZOFFSETFROM:-0300
TZOFFSETTO:-0300
TZNAME:-03
DTSTART:20240101T000000
END:STANDARD
END:VTIMEZONE
BEGIN:VEVENT
DTSTART;TZID=America/Sao_Paulo:20250422T160000
DTEND;TZID=America/Sao_Paulo:20250422T170000
DTSTAMP:20260419T113537
CREATED:20250402T140411Z
LAST-MODIFIED:20250402T140411Z
UID:10000038-1745337600-1745341200@sindsegmd.com.br
SUMMARY:Reunião da Comissão SindLab – Inovação e Tecnologia
DESCRIPTION:
URL:https://sindsegmd.com.br/evento/reuniao-da-comissao-sindlab-inovacao-e-tecnologia-2/
CATEGORIES:Reunião
ATTACH;FMTTYPE=:
END:VEVENT
END:VCALENDAR