BEGIN:VCALENDAR
VERSION:2.0
PRODID:-//SINDSEG MG/GO/MT/DF - ECPv6.15.20//NONSGML v1.0//EN
CALSCALE:GREGORIAN
METHOD:PUBLISH
X-WR-CALNAME:SINDSEG MG/GO/MT/DF
X-ORIGINAL-URL:https://sindsegmd.com.br
X-WR-CALDESC:Eventos para SINDSEG MG/GO/MT/DF
REFRESH-INTERVAL;VALUE=DURATION:PT1H
X-Robots-Tag:noindex
X-PUBLISHED-TTL:PT1H
BEGIN:VTIMEZONE
TZID:America/Sao_Paulo
BEGIN:STANDARD
TZOFFSETFROM:-0300
TZOFFSETTO:-0300
TZNAME:-03
DTSTART:20240101T000000
END:STANDARD
END:VTIMEZONE
BEGIN:VEVENT
DTSTART;TZID=America/Sao_Paulo:20250425T080000
DTEND;TZID=America/Sao_Paulo:20250425T120000
DTSTAMP:20260419T113556
CREATED:20250402T135746Z
LAST-MODIFIED:20250402T135746Z
UID:10000033-1745568000-1745582400@sindsegmd.com.br
SUMMARY:Reunião da Diretoria
DESCRIPTION:
URL:https://sindsegmd.com.br/evento/reuniao-da-diretoria/
ATTACH;FMTTYPE=:
END:VEVENT
BEGIN:VEVENT
DTSTART;TZID=America/Sao_Paulo:20250425T120000
DTEND;TZID=America/Sao_Paulo:20250425T130000
DTSTAMP:20260419T113556
CREATED:20250402T135656Z
LAST-MODIFIED:20250402T135656Z
UID:10000032-1745582400-1745586000@sindsegmd.com.br
SUMMARY:Reunião da Comissão Técnica de Seguros de Ramos Elementares (automóveis\, transportes e patrimonial)
DESCRIPTION:
URL:https://sindsegmd.com.br/evento/reuniao-da-comissao-tecnica-de-seguros-de-ramos-elementares-automoveis-transportes-e-patrimonial/
CATEGORIES:Reunião
ATTACH;FMTTYPE=:
END:VEVENT
END:VCALENDAR