BEGIN:VCALENDAR
VERSION:2.0
PRODID:-//SINDSEG MG/GO/MT/DF - ECPv6.15.20//NONSGML v1.0//EN
CALSCALE:GREGORIAN
METHOD:PUBLISH
X-ORIGINAL-URL:https://sindsegmd.com.br
X-WR-CALDESC:Eventos para SINDSEG MG/GO/MT/DF
REFRESH-INTERVAL;VALUE=DURATION:PT1H
X-Robots-Tag:noindex
X-PUBLISHED-TTL:PT1H
BEGIN:VTIMEZONE
TZID:America/Sao_Paulo
BEGIN:STANDARD
TZOFFSETFROM:-0300
TZOFFSETTO:-0300
TZNAME:-03
DTSTART:20240101T000000
END:STANDARD
END:VTIMEZONE
BEGIN:VEVENT
DTSTART;TZID=America/Sao_Paulo:20250508T110000
DTEND;TZID=America/Sao_Paulo:20250508T130000
DTSTAMP:20260419T141609
CREATED:20250402T140121Z
LAST-MODIFIED:20250402T140121Z
UID:10000034-1746702000-1746709200@sindsegmd.com.br
SUMMARY:Reunião da Comissão Especial de Assuntos Jurídicos e Fiscais
DESCRIPTION:
URL:https://sindsegmd.com.br/evento/reuniao-da-comissao-especial-de-assuntos-juridicos-e-fiscais/
CATEGORIES:Reunião
ATTACH;FMTTYPE=:
END:VEVENT
END:VCALENDAR