BEGIN:VCALENDAR
VERSION:2.0
PRODID:-//SINDSEG MG/GO/MT/DF - ECPv6.15.20//NONSGML v1.0//EN
CALSCALE:GREGORIAN
METHOD:PUBLISH
X-ORIGINAL-URL:https://sindsegmd.com.br
X-WR-CALDESC:Eventos para SINDSEG MG/GO/MT/DF
REFRESH-INTERVAL;VALUE=DURATION:PT1H
X-Robots-Tag:noindex
X-PUBLISHED-TTL:PT1H
BEGIN:VTIMEZONE
TZID:America/Sao_Paulo
BEGIN:STANDARD
TZOFFSETFROM:-0300
TZOFFSETTO:-0300
TZNAME:-03
DTSTART:20240101T000000
END:STANDARD
END:VTIMEZONE
BEGIN:VEVENT
DTSTART;TZID=America/Sao_Paulo:20250812T090000
DTEND;TZID=America/Sao_Paulo:20250812T120000
DTSTAMP:20260419T141018
CREATED:20250709T180732Z
LAST-MODIFIED:20250709T180732Z
UID:10000098-1754989200-1755000000@sindsegmd.com.br
SUMMARY:Tecnologia que Vende: O Poder da IA no Mercado de Seguros
DESCRIPTION:🚀 Vem aí o evento que vai transformar a sua visão sobre tecnologia no mercado de seguros! 🚀 \nO SindSeg MG/GO/MT/DF convida você para uma experiência única sobre como a Inteligência Artificial (IA) está revolucionando os processos comerciais no setor de seguros.\nTecnologia que Vende: O Poder da IA no Mercado de Seguros – Entenda como a IA está otimizando processos comerciais\, melhorando abordagens e revelando novas oportunidades de negócios. \n📍 Local: Avenida Afonso Pena\, 726 – 22º andar\, Belo Horizonte\n🗓 Data: 12 de agosto\, 9h \n✅ Não perca a chance de se atualizar sobre tecnologias disruptivas que estão transformando o mercado de seguros e aproveite para fortalecer seu networking com os principais nomes da indústria. \n👉 Garanta sua vaga e inscreva-se já no link abaixo: \n🔗 https://docs.google.com/forms/d/e/1FAIpQLScL1-d4igQoHDAaMIt3tEOmjBsVHvrZsMrtbZkhYMHijBJePA/viewform?usp=dialog
URL:https://sindsegmd.com.br/evento/tecnologia-que-vende-o-poder-da-ia-no-mercado-de-seguros/
CATEGORIES:Evento
ATTACH;FMTTYPE=image/png:https://sindsegmd.com.br/wp-content/uploads/2025/07/Google-Forms-400-x-267-px.png
END:VEVENT
END:VCALENDAR