BEGIN:VCALENDAR
VERSION:2.0
PRODID:-//SINDSEG MG/GO/MT/DF - ECPv6.15.20//NONSGML v1.0//EN
CALSCALE:GREGORIAN
METHOD:PUBLISH
X-WR-CALNAME:SINDSEG MG/GO/MT/DF
X-ORIGINAL-URL:https://sindsegmd.com.br
X-WR-CALDESC:Eventos para SINDSEG MG/GO/MT/DF
REFRESH-INTERVAL;VALUE=DURATION:PT1H
X-Robots-Tag:noindex
X-PUBLISHED-TTL:PT1H
BEGIN:VTIMEZONE
TZID:America/Sao_Paulo
BEGIN:STANDARD
TZOFFSETFROM:-0300
TZOFFSETTO:-0300
TZNAME:-03
DTSTART:20240101T000000
END:STANDARD
END:VTIMEZONE
BEGIN:VEVENT
DTSTART;TZID=America/Sao_Paulo:20250925T090000
DTEND;TZID=America/Sao_Paulo:20250927T195604
DTSTAMP:20260419T114047
CREATED:20250521T185109Z
LAST-MODIFIED:20250905T153617Z
UID:10000093-1758790800-1759002964@sindsegmd.com.br
SUMMARY:Conec - 2025
DESCRIPTION:
URL:https://sindsegmd.com.br/evento/conec-2025/
LOCATION:Distrito Anhembi\, Av. Olavo Fontoura\, 1209\, Portão 38 - Santana\, São Paulo\, SP\, Brazil
CATEGORIES:Evento
ATTACH;FMTTYPE=image/png:https://sindsegmd.com.br/wp-content/uploads/2025/05/Vem-ai-o-Conec-2025.png
END:VEVENT
END:VCALENDAR