BEGIN:VCALENDAR
VERSION:2.0
PRODID:-//SINDSEG MG/GO/MT/DF - ECPv6.15.20//NONSGML v1.0//EN
CALSCALE:GREGORIAN
METHOD:PUBLISH
X-WR-CALNAME:SINDSEG MG/GO/MT/DF
X-ORIGINAL-URL:https://sindsegmd.com.br
X-WR-CALDESC:Eventos para SINDSEG MG/GO/MT/DF
REFRESH-INTERVAL;VALUE=DURATION:PT1H
X-Robots-Tag:noindex
X-PUBLISHED-TTL:PT1H
BEGIN:VTIMEZONE
TZID:America/Sao_Paulo
BEGIN:STANDARD
TZOFFSETFROM:-0300
TZOFFSETTO:-0300
TZNAME:-03
DTSTART:20240101T000000
END:STANDARD
END:VTIMEZONE
BEGIN:VEVENT
DTSTART;TZID=America/Sao_Paulo:20251103T180000
DTEND;TZID=America/Sao_Paulo:20251103T210000
DTSTAMP:20260421T235155
CREATED:20251028T122317Z
LAST-MODIFIED:20251028T122320Z
UID:10000107-1762192800-1762203600@sindsegmd.com.br
SUMMARY:Soft Opening da Casa do Seguro na COP30
DESCRIPTION:CONVITE — Soft Opening da Casa do Seguro na COP30 \nA Confederação Nacional das Seguradoras (CNseg)\, em parceria com a Associação Comercial do Pará (ACP) e com o Sindicato dos Corretores de Seguros do Estado do Pará (SINCOR-PA)\, tem a honra de convidar para o Soft Opening da Casa do Seguro na COP30\, em Belém-PA. \n🗓 03/11/2025 • ⏰ 18h–21h (coquetel) \n📍 Tv. Alferes Costa\, 2828 — Belém-PA \nO objetivo é apresentar as instalações da Casa\, bem como a programação de conteúdo que será realizada durante a COP30\, destacando o papel do setor de seguros na transição climática. \n✅ RSVP: https://curt.link/ABCiw \nA Casa do Seguro na COP30 conta com a participação de 10 Empoderadores\, grupo formado por empresas do mercado segurador comprometidas com a agenda climática: Allianz\, AXA\, BB Seguros\, Bradesco Seguros\, Caixa Seguridade\, MAPFRE\, Marsh McLennan\, Porto\, Prudential e Tokio Marine. \n🔗 casadoseguro.org.br
URL:https://sindsegmd.com.br/evento/soft-opening-da-casa-do-seguro-na-cop30/
CATEGORIES:Evento
ATTACH;FMTTYPE=image/jpeg:https://sindsegmd.com.br/wp-content/uploads/2025/10/WhatsApp-Image-2025-10-28-at-09.13.21.jpeg
END:VEVENT
END:VCALENDAR