BEGIN:VCALENDAR
VERSION:2.0
PRODID:-//SINDSEG MG/GO/MT/DF - ECPv6.15.20//NONSGML v1.0//EN
CALSCALE:GREGORIAN
METHOD:PUBLISH
X-WR-CALNAME:SINDSEG MG/GO/MT/DF
X-ORIGINAL-URL:https://sindsegmd.com.br
X-WR-CALDESC:Eventos para SINDSEG MG/GO/MT/DF
REFRESH-INTERVAL;VALUE=DURATION:PT1H
X-Robots-Tag:noindex
X-PUBLISHED-TTL:PT1H
BEGIN:VTIMEZONE
TZID:America/Sao_Paulo
BEGIN:STANDARD
TZOFFSETFROM:-0300
TZOFFSETTO:-0300
TZNAME:-03
DTSTART:20240101T000000
END:STANDARD
END:VTIMEZONE
BEGIN:VEVENT
DTSTART;TZID=America/Sao_Paulo:20251127T200000
DTEND;TZID=America/Sao_Paulo:20251127T233000
DTSTAMP:20260419T113125
CREATED:20251117T142140Z
LAST-MODIFIED:20251117T142215Z
UID:10000110-1764273600-1764286200@sindsegmd.com.br
SUMMARY:22º TROFÉU ALVORADA
DESCRIPTION:XXII TROFÉU ALVORADACORRETORES DO FUTURO \n27.11.2025 • 20h \nReconhecendo a excelência que atravessagerações e avança para o novo. \nTraje Passeio Completo(All Black) \nChácara Recanto das ÁguasSMPW Q8\, Conjunto 3 – Park Way – Brasília/DF
URL:https://sindsegmd.com.br/evento/22o-trofeu-alvorada/
CATEGORIES:Evento
ATTACH;FMTTYPE=image/png:https://sindsegmd.com.br/wp-content/uploads/2025/11/image.png
END:VEVENT
END:VCALENDAR