BEGIN:VCALENDAR
VERSION:2.0
PRODID:-//SINDSEG MG/GO/MT/DF - ECPv6.15.20//NONSGML v1.0//EN
CALSCALE:GREGORIAN
METHOD:PUBLISH
X-WR-CALNAME:SINDSEG MG/GO/MT/DF
X-ORIGINAL-URL:https://sindsegmd.com.br
X-WR-CALDESC:Eventos para SINDSEG MG/GO/MT/DF
REFRESH-INTERVAL;VALUE=DURATION:PT1H
X-Robots-Tag:noindex
X-PUBLISHED-TTL:PT1H
BEGIN:VTIMEZONE
TZID:America/Sao_Paulo
BEGIN:STANDARD
TZOFFSETFROM:-0300
TZOFFSETTO:-0300
TZNAME:-03
DTSTART:20240101T000000
END:STANDARD
END:VTIMEZONE
BEGIN:VEVENT
DTSTART;TZID=America/Sao_Paulo:20251128T090000
DTEND;TZID=America/Sao_Paulo:20251128T100000
DTSTAMP:20260419T113138
CREATED:20250403T165634Z
LAST-MODIFIED:20250404T134754Z
UID:10000075-1764320400-1764324000@sindsegmd.com.br
SUMMARY:Comissão Técnica de Seguros de Ramos Elementares (automóveis\, transportes e patrimonial)
DESCRIPTION:
URL:https://sindsegmd.com.br/evento/comissao-tecnica-de-seguros-de-ramos-elementares-automoveis-transportes-e-patrimonial-6/
CATEGORIES:Reunião
ATTACH;FMTTYPE=:
END:VEVENT
BEGIN:VEVENT
DTSTART;TZID=America/Sao_Paulo:20251128T200000
DTEND;TZID=America/Sao_Paulo:20251128T233000
DTSTAMP:20260419T113138
CREATED:20251117T142518Z
LAST-MODIFIED:20251117T142633Z
UID:10000111-1764360000-1764372600@sindsegmd.com.br
SUMMARY:32ª Confraternização Anual dos Corretores de Seguros de Goiás e Mercado de Seguros e 21ª Edição do Prêmio Bandeirante
DESCRIPTION:🎉 32ª Confraternização Anual dos Corretores de Seguros e do Mercado de Seguros de Goiás\n✨ 21ª Edição do Prêmio Bandeirante \nÉ com grande alegria que convidamos você para celebrar conosco um ano de conquistas\, união e fortalecimento da nossa categoria. 🌟\nSerá uma noite especial de confraternização\, reconhecimento e networking entre profissionais que fazem a diferença no mercado de seguros. 🤝 \n🏆 Premiação Prêmio Bandeirante\nUma homenagem aos destaques do mercado segurador em Goiás\, que se destacaram pela excelência e compromisso. \n📅 Data: 28/11/2025\n🕒 Horário: 20h30\n📍 Local: BELLA EVENTOS\nEndereço: Rua 1.134 QD 242 LT 5/6\, Setor Marista\, Goiânia-Goiás.\n💼 Traje: Social / Esporte Fino \n🎟️ Convites: \nCada corretor associado (PF ou PJ) adimplentes\, tem direito a compra de 2 convites.\n💲 Valor individual do convite: R$150\,00 (Associados) e R$ 300\,00 para Corretores de Seguros não Associados. \n🚗 Importante:\nSugerimos que todos utilizem transporte por aplicativo\, pois o local não possui estacionamento. \nVenha celebrar\, brindar e fortalecer ainda mais a nossa união! 🥂\nSua presença torna este momento ainda mais especial. 💙 \nMaiores informações no Whatsapp: (62) 99863- 3326.
URL:https://sindsegmd.com.br/evento/32a-confraternizacao-anual-dos-corretores-de-seguros-de-goias-e-mercado-de-seguros-e-21a-edicao-do-premio-bandeirante/
CATEGORIES:Evento
ATTACH;FMTTYPE=image/png:https://sindsegmd.com.br/wp-content/uploads/2025/11/image-1.png
END:VEVENT
END:VCALENDAR