BEGIN:VCALENDAR
VERSION:2.0
PRODID:-//SINDSEG MG/GO/MT/DF - ECPv6.15.20//NONSGML v1.0//EN
CALSCALE:GREGORIAN
METHOD:PUBLISH
X-ORIGINAL-URL:https://sindsegmd.com.br
X-WR-CALDESC:Eventos para SINDSEG MG/GO/MT/DF
REFRESH-INTERVAL;VALUE=DURATION:PT1H
X-Robots-Tag:noindex
X-PUBLISHED-TTL:PT1H
BEGIN:VTIMEZONE
TZID:America/Sao_Paulo
BEGIN:STANDARD
TZOFFSETFROM:-0300
TZOFFSETTO:-0300
TZNAME:-03
DTSTART:20250101T000000
END:STANDARD
END:VTIMEZONE
BEGIN:VEVENT
DTSTART;TZID=America/Sao_Paulo:20261126T200000
DTEND;TZID=America/Sao_Paulo:20261126T233000
DTSTAMP:20260420T200848
CREATED:20260106T134632Z
LAST-MODIFIED:20260127T132144Z
UID:10000122-1795723200-1795735800@sindsegmd.com.br
SUMMARY:Medalha do Mérito Segurador
DESCRIPTION:Mais informações em Breve.
URL:https://sindsegmd.com.br/evento/medalha_2026/
CATEGORIES:Evento
ATTACH;FMTTYPE=image/png:https://sindsegmd.com.br/wp-content/uploads/2026/01/MEDALHA-MERITO-BANNER-SITE.png
END:VEVENT
END:VCALENDAR