BEGIN:VCALENDAR
VERSION:2.0
PRODID:-//SINDSEG MG/GO/MT/DF - ECPv6.15.20//NONSGML v1.0//EN
CALSCALE:GREGORIAN
METHOD:PUBLISH
X-ORIGINAL-URL:https://sindsegmd.com.br
X-WR-CALDESC:Eventos para SINDSEG MG/GO/MT/DF
REFRESH-INTERVAL;VALUE=DURATION:PT1H
X-Robots-Tag:noindex
X-PUBLISHED-TTL:PT1H
BEGIN:VTIMEZONE
TZID:America/Sao_Paulo
BEGIN:STANDARD
TZOFFSETFROM:-0300
TZOFFSETTO:-0300
TZNAME:-03
DTSTART:20240101T000000
END:STANDARD
END:VTIMEZONE
BEGIN:VEVENT
DTSTART;TZID=America/Sao_Paulo:20250807T130000
DTEND;TZID=America/Sao_Paulo:20250807T140000
DTSTAMP:20260416T204439
CREATED:20250403T163744Z
LAST-MODIFIED:20250403T163744Z
UID:10000061-1754571600-1754575200@sindsegmd.com.br
SUMMARY:Comissão Especial de Assuntos Jurídicos e Fiscais
DESCRIPTION:
URL:https://sindsegmd.com.br/evento/comissao-especial-de-assuntos-juridicos-e-fiscais-2/
CATEGORIES:Reunião
ATTACH;FMTTYPE=:
END:VEVENT
BEGIN:VEVENT
DTSTART;TZID=America/Sao_Paulo:20250808T140000
DTEND;TZID=America/Sao_Paulo:20250808T150000
DTSTAMP:20260416T204439
CREATED:20250403T163835Z
LAST-MODIFIED:20250403T163835Z
UID:10000062-1754661600-1754665200@sindsegmd.com.br
SUMMARY:Comissão Técnica de Benefícios (vida\, previdência complementar\, saúde e capitalização)
DESCRIPTION:
URL:https://sindsegmd.com.br/evento/comissao-tecnica-de-beneficios-vida-previdencia-complementar-saude-e-capitalizacao-4/
CATEGORIES:Reunião
ATTACH;FMTTYPE=:
END:VEVENT
BEGIN:VEVENT
DTSTART;TZID=America/Sao_Paulo:20250814T160000
DTEND;TZID=America/Sao_Paulo:20250814T170000
DTSTAMP:20260416T204439
CREATED:20250403T163924Z
LAST-MODIFIED:20250403T163924Z
UID:10000063-1755187200-1755190800@sindsegmd.com.br
SUMMARY:Comissão ESG – Governança\, Meio Ambiente e Social
DESCRIPTION:
URL:https://sindsegmd.com.br/evento/comissao-esg-governanca-meio-ambiente-e-social-4/
CATEGORIES:Reunião
ATTACH;FMTTYPE=:
END:VEVENT
BEGIN:VEVENT
DTSTART;TZID=America/Sao_Paulo:20250821T150000
DTEND;TZID=America/Sao_Paulo:20250821T160000
DTSTAMP:20260416T204439
CREATED:20250403T164023Z
LAST-MODIFIED:20250403T164023Z
UID:10000064-1755788400-1755792000@sindsegmd.com.br
SUMMARY:Comissão SindLab – Inovação e Tecnologia
DESCRIPTION:
URL:https://sindsegmd.com.br/evento/comissao-sindlab-inovacao-e-tecnologia-4/
CATEGORIES:Reunião
ATTACH;FMTTYPE=:
END:VEVENT
BEGIN:VEVENT
DTSTART;TZID=America/Sao_Paulo:20250822T100000
DTEND;TZID=America/Sao_Paulo:20250822T110000
DTSTAMP:20260416T204439
CREATED:20250403T165900Z
LAST-MODIFIED:20250403T165900Z
UID:10000077-1755856800-1755860400@sindsegmd.com.br
SUMMARY:Reunião Diretoria
DESCRIPTION:
URL:https://sindsegmd.com.br/evento/reuniao-diretoria-5/
CATEGORIES:Reunião
ATTACH;FMTTYPE=:
END:VEVENT
BEGIN:VEVENT
DTSTART;TZID=America/Sao_Paulo:20250822T123000
DTEND;TZID=America/Sao_Paulo:20250822T133000
DTSTAMP:20260416T204439
CREATED:20250403T164224Z
LAST-MODIFIED:20250403T164224Z
UID:10000065-1755865800-1755869400@sindsegmd.com.br
SUMMARY:Comissão Técnica de Seguros de Ramos Elementares (automóveis\, transportes e patrimonial)
DESCRIPTION:
URL:https://sindsegmd.com.br/evento/comissao-tecnica-de-seguros-de-ramos-elementares-automoveis-transportes-e-patrimonial-4/
CATEGORIES:Reunião
ATTACH;FMTTYPE=:
END:VEVENT
END:VCALENDAR