BEGIN:VCALENDAR
VERSION:2.0
PRODID:-//SINDSEG MG/GO/MT/DF - ECPv6.15.20//NONSGML v1.0//EN
CALSCALE:GREGORIAN
METHOD:PUBLISH
X-WR-CALNAME:SINDSEG MG/GO/MT/DF
X-ORIGINAL-URL:https://sindsegmd.com.br
X-WR-CALDESC:Eventos para SINDSEG MG/GO/MT/DF
REFRESH-INTERVAL;VALUE=DURATION:PT1H
X-Robots-Tag:noindex
X-PUBLISHED-TTL:PT1H
BEGIN:VTIMEZONE
TZID:America/Sao_Paulo
BEGIN:STANDARD
TZOFFSETFROM:-0300
TZOFFSETTO:-0300
TZNAME:-03
DTSTART:20250101T000000
END:STANDARD
END:VTIMEZONE
BEGIN:VEVENT
DTSTART;TZID=America/Sao_Paulo:20260206T090000
DTEND;TZID=America/Sao_Paulo:20260206T100000
DTSTAMP:20260419T145047
CREATED:20260106T155240Z
LAST-MODIFIED:20260127T113913Z
UID:10000179-1770368400-1770372000@sindsegmd.com.br
SUMMARY:Reunião Comissão de Benefícios
DESCRIPTION: 
URL:https://sindsegmd.com.br/evento/reuniao-comissao-de-beneficios/2026-02-06/
CATEGORIES:Reunião
ATTACH;FMTTYPE=:
END:VEVENT
BEGIN:VEVENT
DTSTART;TZID=America/Sao_Paulo:20260206T090000
DTEND;TZID=America/Sao_Paulo:20260206T100000
DTSTAMP:20260419T145047
CREATED:20260106T171447Z
LAST-MODIFIED:20260106T171447Z
UID:10000143-1770368400-1770372000@sindsegmd.com.br
SUMMARY:Reunião Comissão Jurídica
DESCRIPTION:
URL:https://sindsegmd.com.br/evento/reuniao-comissao-juridica/2026-02-06/
CATEGORIES:Reunião
ATTACH;FMTTYPE=:
END:VEVENT
BEGIN:VEVENT
DTSTART;TZID=America/Sao_Paulo:20260212T090000
DTEND;TZID=America/Sao_Paulo:20260212T100000
DTSTAMP:20260419T145047
CREATED:20260106T165704Z
LAST-MODIFIED:20260106T165704Z
UID:10000133-1770886800-1770890400@sindsegmd.com.br
SUMMARY:Reunião Comissão ESG
DESCRIPTION:
URL:https://sindsegmd.com.br/evento/reuniao-comissao-esg/2026-02-12/
CATEGORIES:Reunião
ATTACH;FMTTYPE=:
END:VEVENT
BEGIN:VEVENT
DTSTART;TZID=America/Sao_Paulo:20260226T090000
DTEND;TZID=America/Sao_Paulo:20260226T100000
DTSTAMP:20260419T145047
CREATED:20260106T172706Z
LAST-MODIFIED:20260106T172706Z
UID:10000163-1772096400-1772100000@sindsegmd.com.br
SUMMARY:Reunião SindLab
DESCRIPTION:
URL:https://sindsegmd.com.br/evento/reuniao-sindlab/2026-02-26/
CATEGORIES:Reunião
ATTACH;FMTTYPE=:
END:VEVENT
BEGIN:VEVENT
DTSTART;TZID=America/Sao_Paulo:20260227T090000
DTEND;TZID=America/Sao_Paulo:20260227T100000
DTSTAMP:20260419T145047
CREATED:20260106T172046Z
LAST-MODIFIED:20260106T172046Z
UID:10000153-1772182800-1772186400@sindsegmd.com.br
SUMMARY:Reunião Comissão Ramos Elementares
DESCRIPTION:
URL:https://sindsegmd.com.br/evento/reuniao-comissao-ramos-elementares/2026-02-27/
CATEGORIES:Reunião
ATTACH;FMTTYPE=:
END:VEVENT
BEGIN:VEVENT
DTSTART;TZID=America/Sao_Paulo:20260227T140000
DTEND;TZID=America/Sao_Paulo:20260227T160000
DTSTAMP:20260419T145047
CREATED:20260109T124542Z
LAST-MODIFIED:20260109T124543Z
UID:10000112-1772200800-1772208000@sindsegmd.com.br
SUMMARY:Reunião Diretoria
DESCRIPTION: 
URL:https://sindsegmd.com.br/evento/reuniao-diretoria-8-2/
CATEGORIES:Reunião
ATTACH;FMTTYPE=:
END:VEVENT
END:VCALENDAR