BEGIN:VCALENDAR
VERSION:2.0
PRODID:-//SINDSEG MG/GO/MT/DF - ECPv6.15.20//NONSGML v1.0//EN
CALSCALE:GREGORIAN
METHOD:PUBLISH
X-WR-CALNAME:SINDSEG MG/GO/MT/DF
X-ORIGINAL-URL:https://sindsegmd.com.br
X-WR-CALDESC:Eventos para SINDSEG MG/GO/MT/DF
REFRESH-INTERVAL;VALUE=DURATION:PT1H
X-Robots-Tag:noindex
X-PUBLISHED-TTL:PT1H
BEGIN:VTIMEZONE
TZID:America/Sao_Paulo
BEGIN:STANDARD
TZOFFSETFROM:-0300
TZOFFSETTO:-0300
TZNAME:-03
DTSTART:20240101T000000
END:STANDARD
END:VTIMEZONE
BEGIN:VEVENT
DTSTART;TZID=America/Sao_Paulo:20250415T150000
DTEND;TZID=America/Sao_Paulo:20250415T170000
DTSTAMP:20260422T123451
CREATED:20250402T140332Z
LAST-MODIFIED:20250402T140332Z
UID:10000037-1744729200-1744736400@sindsegmd.com.br
SUMMARY:Reunião da Comissão ESG – Governança\, Meio Ambiente e Social
DESCRIPTION:
URL:https://sindsegmd.com.br/evento/reuniao-da-comissao-esg-governanca-meio-ambiente-e-social-2/
CATEGORIES:Reunião
ATTACH;FMTTYPE=:
END:VEVENT
BEGIN:VEVENT
DTSTART;TZID=America/Sao_Paulo:20250417T160000
DTEND;TZID=America/Sao_Paulo:20250417T170000
DTSTAMP:20260422T123451
CREATED:20250402T135417Z
LAST-MODIFIED:20250402T135417Z
UID:10000030-1744905600-1744909200@sindsegmd.com.br
SUMMARY:Reunião da Comissão SindLab – Inovação e Tecnologia
DESCRIPTION:
URL:https://sindsegmd.com.br/evento/reuniao-da-comissao-sindlab-inovacao-e-tecnologia/
CATEGORIES:Reunião
ATTACH;FMTTYPE=:
END:VEVENT
BEGIN:VEVENT
DTSTART;VALUE=DATE:20250419
DTEND;VALUE=DATE:20250420
DTSTAMP:20260422T123451
CREATED:20250403T162852Z
LAST-MODIFIED:20250403T162852Z
UID:10000055-1745020800-1745107199@sindsegmd.com.br
SUMMARY:Aniversário SINDSEG
DESCRIPTION:
URL:https://sindsegmd.com.br/evento/aniversario-sindseg/
CATEGORIES:Reunião
ATTACH;FMTTYPE=:
END:VEVENT
BEGIN:VEVENT
DTSTART;TZID=America/Sao_Paulo:20250419T010000
DTEND;TZID=America/Sao_Paulo:20250419T230000
DTSTAMP:20260422T123451
CREATED:20250402T135510Z
LAST-MODIFIED:20250402T135557Z
UID:10000031-1745024400-1745103600@sindsegmd.com.br
SUMMARY:Aniversário SINDSEG MG/GO/MT/DF
DESCRIPTION:
URL:https://sindsegmd.com.br/evento/aniversario-sindseg-mg-go-mt-df/
CATEGORIES:Reunião
ATTACH;FMTTYPE=:
END:VEVENT
BEGIN:VEVENT
DTSTART;VALUE=DATE:20250420
DTEND;VALUE=DATE:20250421
DTSTAMP:20260422T123451
CREATED:20250403T163008Z
LAST-MODIFIED:20250403T163008Z
UID:10000056-1745107200-1745193599@sindsegmd.com.br
SUMMARY:Páscoa
DESCRIPTION:
URL:https://sindsegmd.com.br/evento/pascoa/
CATEGORIES:Reunião
ATTACH;FMTTYPE=:
END:VEVENT
BEGIN:VEVENT
DTSTART;TZID=America/Sao_Paulo:20250422T160000
DTEND;TZID=America/Sao_Paulo:20250422T170000
DTSTAMP:20260422T123451
CREATED:20250402T140411Z
LAST-MODIFIED:20250402T140411Z
UID:10000038-1745337600-1745341200@sindsegmd.com.br
SUMMARY:Reunião da Comissão SindLab – Inovação e Tecnologia
DESCRIPTION:
URL:https://sindsegmd.com.br/evento/reuniao-da-comissao-sindlab-inovacao-e-tecnologia-2/
CATEGORIES:Reunião
ATTACH;FMTTYPE=:
END:VEVENT
BEGIN:VEVENT
DTSTART;TZID=America/Sao_Paulo:20250425T080000
DTEND;TZID=America/Sao_Paulo:20250425T120000
DTSTAMP:20260422T123451
CREATED:20250402T135746Z
LAST-MODIFIED:20250402T135746Z
UID:10000033-1745568000-1745582400@sindsegmd.com.br
SUMMARY:Reunião da Diretoria
DESCRIPTION:
URL:https://sindsegmd.com.br/evento/reuniao-da-diretoria/
ATTACH;FMTTYPE=:
END:VEVENT
BEGIN:VEVENT
DTSTART;TZID=America/Sao_Paulo:20250425T120000
DTEND;TZID=America/Sao_Paulo:20250425T130000
DTSTAMP:20260422T123451
CREATED:20250402T135656Z
LAST-MODIFIED:20250402T135656Z
UID:10000032-1745582400-1745586000@sindsegmd.com.br
SUMMARY:Reunião da Comissão Técnica de Seguros de Ramos Elementares (automóveis\, transportes e patrimonial)
DESCRIPTION:
URL:https://sindsegmd.com.br/evento/reuniao-da-comissao-tecnica-de-seguros-de-ramos-elementares-automoveis-transportes-e-patrimonial/
CATEGORIES:Reunião
ATTACH;FMTTYPE=:
END:VEVENT
BEGIN:VEVENT
DTSTART;TZID=America/Sao_Paulo:20250429T083000
DTEND;TZID=America/Sao_Paulo:20250429T120000
DTSTAMP:20260422T123451
CREATED:20250423T212416Z
LAST-MODIFIED:20250423T212416Z
UID:10000087-1745915400-1745928000@sindsegmd.com.br
SUMMARY:Discutir e Refletir - Brasília
DESCRIPTION:🚨 Você é nosso Convidado! 🚨 \nNo dia 29/04/2025\, em Brasília\, discutiremos os impactos e oportunidades da Nova Lei de Seguros – 15040. \nContaremos com as presenças de Andréia Padovani\, Landulfo Ferreira\, e Jackson de Melo Prata\, para uma análise aprofundada sobre como a nova legislação afeta o mercado de seguros. O evento começará com um café de boas-vindas às 8h30 e o início do debate às 9h. \n🗓️ 29/04/2025\n📍 Auditório ION – SGAN 601 Edifício Íon\, Lote H – Asa Norte\, Brasília – DF \n🔗 Garanta sua presença! Preencha os dados no link abaixo e participe! \nhttps://docs.google.com/forms/d/e/1FAIpQLSdslUaiYpH5jAkQX4dRaZjgiTFBBdS3WFICqOdMJD0c7ZjatA/viewform?usp=dialog
URL:https://sindsegmd.com.br/evento/discutir-e-refletir-brasilia/
CATEGORIES:Evento
ATTACH;FMTTYPE=image/png:https://sindsegmd.com.br/wp-content/uploads/2025/04/banner-eventos-site-sindseg-400-x-267-px.png
END:VEVENT
BEGIN:VEVENT
DTSTART;TZID=America/Sao_Paulo:20250507T090000
DTEND;TZID=America/Sao_Paulo:20250507T170000
DTSTAMP:20260422T123451
CREATED:20250424T141811Z
LAST-MODIFIED:20250425T131735Z
UID:10000089-1746608400-1746637200@sindsegmd.com.br
SUMMARY:Seminário - Segurança Viária e Prevenção de Roubo de Cargas e como podemos fazer a diferença juntos - Pouso Alegre
DESCRIPTION:
URL:https://sindsegmd.com.br/evento/seminario-seguranca-viaria-e-prevencao-de-roubo-de-cargas-e-como-podemos-fazer-a-diferenca-juntos-pouso-alegre/
CATEGORIES:Evento
ATTACH;FMTTYPE=image/jpeg:https://sindsegmd.com.br/wp-content/uploads/2025/04/banner-eventos-site-sindseg-400-x-267-px-2.jpg
END:VEVENT
BEGIN:VEVENT
DTSTART;TZID=America/Sao_Paulo:20250508T110000
DTEND;TZID=America/Sao_Paulo:20250508T130000
DTSTAMP:20260422T123451
CREATED:20250402T140121Z
LAST-MODIFIED:20250402T140121Z
UID:10000034-1746702000-1746709200@sindsegmd.com.br
SUMMARY:Reunião da Comissão Especial de Assuntos Jurídicos e Fiscais
DESCRIPTION:
URL:https://sindsegmd.com.br/evento/reuniao-da-comissao-especial-de-assuntos-juridicos-e-fiscais/
CATEGORIES:Reunião
ATTACH;FMTTYPE=:
END:VEVENT
BEGIN:VEVENT
DTSTART;TZID=America/Sao_Paulo:20250509T090000
DTEND;TZID=America/Sao_Paulo:20250509T100000
DTSTAMP:20260422T123451
CREATED:20250402T141708Z
LAST-MODIFIED:20250402T141708Z
UID:10000048-1746781200-1746784800@sindsegmd.com.br
SUMMARY:Comissão Técnica de Benefícios (vida\, previdência complementar\, saúde e capitalização)
DESCRIPTION:
URL:https://sindsegmd.com.br/evento/comissao-tecnica-de-beneficios-vida-previdencia-complementar-saude-e-capitalizacao-2/
CATEGORIES:Reunião
ATTACH;FMTTYPE=:
END:VEVENT
BEGIN:VEVENT
DTSTART;TZID=America/Sao_Paulo:20250514T010000
DTEND;TZID=America/Sao_Paulo:20250514T210000
DTSTAMP:20260422T123451
CREATED:20250402T141810Z
LAST-MODIFIED:20250402T141810Z
UID:10000049-1747184400-1747256400@sindsegmd.com.br
SUMMARY:Dia Continental do Seguro
DESCRIPTION:
URL:https://sindsegmd.com.br/evento/dia-continental-do-seguro-2/
CATEGORIES:Reunião
ATTACH;FMTTYPE=:
END:VEVENT
BEGIN:VEVENT
DTSTART;TZID=America/Sao_Paulo:20250515T100000
DTEND;TZID=America/Sao_Paulo:20250515T110000
DTSTAMP:20260422T123451
CREATED:20250402T141859Z
LAST-MODIFIED:20250402T141915Z
UID:10000050-1747303200-1747306800@sindsegmd.com.br
SUMMARY:Comissão ESG – Governança\, Meio Ambiente e Social
DESCRIPTION:
URL:https://sindsegmd.com.br/evento/comissao-esg-governanca-meio-ambiente-e-social-2/
CATEGORIES:Reunião
ATTACH;FMTTYPE=:
END:VEVENT
BEGIN:VEVENT
DTSTART;TZID=America/Sao_Paulo:20250522T160000
DTEND;TZID=America/Sao_Paulo:20250522T170000
DTSTAMP:20260422T123451
CREATED:20250402T141956Z
LAST-MODIFIED:20250402T142007Z
UID:10000051-1747929600-1747933200@sindsegmd.com.br
SUMMARY:Comissão SindLab – Inovação e Tecnologia
DESCRIPTION:
URL:https://sindsegmd.com.br/evento/comissao-sindlab-inovacao-e-tecnologia-2/
ATTACH;FMTTYPE=:
END:VEVENT
BEGIN:VEVENT
DTSTART;TZID=America/Sao_Paulo:20250523T080000
DTEND;TZID=America/Sao_Paulo:20250523T100000
DTSTAMP:20260422T123451
CREATED:20250402T140459Z
LAST-MODIFIED:20250402T140459Z
UID:10000039-1747987200-1747994400@sindsegmd.com.br
SUMMARY:Comissão Técnica de Seguros de Ramos Elementares (automóveis\, transportes e patrimonial)
DESCRIPTION:
URL:https://sindsegmd.com.br/evento/comissao-tecnica-de-seguros-de-ramos-elementares-automoveis-transportes-e-patrimonial/
ATTACH;FMTTYPE=:
END:VEVENT
BEGIN:VEVENT
DTSTART;TZID=America/Sao_Paulo:20250523T160000
DTEND;TZID=America/Sao_Paulo:20250523T170000
DTSTAMP:20260422T123451
CREATED:20250402T140533Z
LAST-MODIFIED:20250402T140533Z
UID:10000040-1748016000-1748019600@sindsegmd.com.br
SUMMARY:Reunião da Diretoria
DESCRIPTION:
URL:https://sindsegmd.com.br/evento/reuniao-da-diretoria-2/
ATTACH;FMTTYPE=:
END:VEVENT
BEGIN:VEVENT
DTSTART;VALUE=DATE:20250526
DTEND;VALUE=DATE:20250527
DTSTAMP:20260422T123451
CREATED:20250526T124940Z
LAST-MODIFIED:20250526T125443Z
UID:10000096-1748246400-1748278800@sindsegmd.com.br
SUMMARY:Reunião Técnica de Seguros Aplicáveis
DESCRIPTION:IINSCREVA-SE PELO LINK: https://forms.office.com/Pages/ResponsePage.aspx?id=x6b7FxIzHEOkTYZnPiDehQQihDEFr8BPhrHDE07ebJtURjE2R0JZUkJaWkwwSzU4TDRXNEdYNFJGNC4u \nAs informações de data\, horário e local serão enviadas posteriormente aos participantes.
URL:https://sindsegmd.com.br/evento/reuniao-tecnica-de-seguros-aplicaveis/
CATEGORIES:Evento,Reunião
ATTACH;FMTTYPE=image/png:https://sindsegmd.com.br/wp-content/uploads/2025/05/banner-eventos-site-sindseg-400-x-267-px-1.png
END:VEVENT
BEGIN:VEVENT
DTSTART;TZID=America/Sao_Paulo:20250527T080000
DTEND;TZID=America/Sao_Paulo:20250527T170000
DTSTAMP:20260422T123451
CREATED:20250502T151801Z
LAST-MODIFIED:20250502T151801Z
UID:10000091-1748332800-1748365200@sindsegmd.com.br
SUMMARY:CONSEGURO - WTC - São Paulo
DESCRIPTION:
URL:https://sindsegmd.com.br/evento/conseguro-wtc-sao-paulo/
CATEGORIES:Reunião
ATTACH;FMTTYPE=:
END:VEVENT
BEGIN:VEVENT
DTSTART;TZID=America/Sao_Paulo:20250603T083000
DTEND;TZID=America/Sao_Paulo:20250603T170000
DTSTAMP:20260422T123451
CREATED:20250424T135008Z
LAST-MODIFIED:20250424T172132Z
UID:10000088-1748939400-1748970000@sindsegmd.com.br
SUMMARY:Discutir e Refletir - Impactos e Oportunidades da Nova Lei de Seguros 15040 - Goiânia
DESCRIPTION:
URL:https://sindsegmd.com.br/evento/discutir-e-refletir-impactos-e-oportunidades-da-nova-lei-de-seguros-15040-goiania/
CATEGORIES:Evento
ATTACH;FMTTYPE=image/jpeg:https://sindsegmd.com.br/wp-content/uploads/2025/04/banner-eventos-site-sindseg-400-x-267-px.jpg
END:VEVENT
BEGIN:VEVENT
DTSTART;TZID=America/Sao_Paulo:20250605T080000
DTEND;TZID=America/Sao_Paulo:20250605T100000
DTSTAMP:20260422T123451
CREATED:20250402T141050Z
LAST-MODIFIED:20250402T141050Z
UID:10000041-1749110400-1749117600@sindsegmd.com.br
SUMMARY:Comissão Especial de Assuntos Jurídicos e Fiscais
DESCRIPTION:
URL:https://sindsegmd.com.br/evento/comissao-especial-de-assuntos-juridicos-e-fiscais/
CATEGORIES:Reunião
ATTACH;FMTTYPE=:
END:VEVENT
BEGIN:VEVENT
DTSTART;TZID=America/Sao_Paulo:20250612T160000
DTEND;TZID=America/Sao_Paulo:20250612T170000
DTSTAMP:20260422T123451
CREATED:20250402T141208Z
LAST-MODIFIED:20250402T141208Z
UID:10000043-1749744000-1749747600@sindsegmd.com.br
SUMMARY:Comissão ESG – Governança\, Meio Ambiente e Social
DESCRIPTION:
URL:https://sindsegmd.com.br/evento/comissao-esg-governanca-meio-ambiente-e-social/
CATEGORIES:Reunião
ATTACH;FMTTYPE=:
END:VEVENT
BEGIN:VEVENT
DTSTART;TZID=America/Sao_Paulo:20250613T140000
DTEND;TZID=America/Sao_Paulo:20250613T160000
DTSTAMP:20260422T123451
CREATED:20250402T141249Z
LAST-MODIFIED:20250402T141249Z
UID:10000044-1749823200-1749830400@sindsegmd.com.br
SUMMARY:Comissão Técnica de Benefícios (vida\, previdência complementar\, saúde e capitalização)
DESCRIPTION:
URL:https://sindsegmd.com.br/evento/comissao-tecnica-de-beneficios-vida-previdencia-complementar-saude-e-capitalizacao/
CATEGORIES:Reunião
ATTACH;FMTTYPE=:
END:VEVENT
BEGIN:VEVENT
DTSTART;TZID=America/Sao_Paulo:20250624T083000
DTEND;TZID=America/Sao_Paulo:20250624T120000
DTSTAMP:20260422T123451
CREATED:20250612T175627Z
LAST-MODIFIED:20250613T155256Z
UID:10000097-1750753800-1750766400@sindsegmd.com.br
SUMMARY:Workshop: Nova Lei do Seguro – Marco Legal dos Seguros.
DESCRIPTION:No dia 24 de junho de 2025\, participe do workshop que abordará as transformações da nova lei do seguro\, com uma análise do impacto do Novo Marco Legal para o setor. \nAgende a data – Em breve encaminharemos o link para participação a distância. \n💻 Transmissão ao vivo pelo YouTube.
URL:https://sindsegmd.com.br/evento/workshop-nova-lei-do-seguro-marco-legal-dos-seguros/
CATEGORIES:Evento
ATTACH;FMTTYPE=image/jpeg:https://sindsegmd.com.br/wp-content/uploads/2025/06/download-1.jpg
END:VEVENT
BEGIN:VEVENT
DTSTART;TZID=America/Sao_Paulo:20250626T160000
DTEND;TZID=America/Sao_Paulo:20250626T170000
DTSTAMP:20260422T123451
CREATED:20250402T141325Z
LAST-MODIFIED:20250402T141325Z
UID:10000045-1750953600-1750957200@sindsegmd.com.br
SUMMARY:Comissão SindLab – Inovação e Tecnologia
DESCRIPTION:
URL:https://sindsegmd.com.br/evento/comissao-sindlab-inovacao-e-tecnologia/
CATEGORIES:Reunião
ATTACH;FMTTYPE=:
END:VEVENT
BEGIN:VEVENT
DTSTART;TZID=America/Sao_Paulo:20250627T150000
DTEND;TZID=America/Sao_Paulo:20250627T163000
DTSTAMP:20260422T123451
CREATED:20250402T141405Z
LAST-MODIFIED:20250402T141405Z
UID:10000046-1751036400-1751041800@sindsegmd.com.br
SUMMARY:Comissão Técnica de Seguros de Ramos Elementares (automóveis\, transportes e patrimonial)
DESCRIPTION:
URL:https://sindsegmd.com.br/evento/comissao-tecnica-de-seguros-de-ramos-elementares-automoveis-transportes-e-patrimonial-2/
CATEGORIES:Reunião
ATTACH;FMTTYPE=:
END:VEVENT
BEGIN:VEVENT
DTSTART;TZID=America/Sao_Paulo:20250627T160000
DTEND;TZID=America/Sao_Paulo:20250627T170000
DTSTAMP:20260422T123451
CREATED:20250402T141442Z
LAST-MODIFIED:20250402T141442Z
UID:10000047-1751040000-1751043600@sindsegmd.com.br
SUMMARY:Reunião Diretoria
DESCRIPTION:
URL:https://sindsegmd.com.br/evento/reuniao-diretoria-3/
CATEGORIES:Reunião
ATTACH;FMTTYPE=:
END:VEVENT
BEGIN:VEVENT
DTSTART;TZID=America/Sao_Paulo:20250703T160000
DTEND;TZID=America/Sao_Paulo:20250703T170000
DTSTAMP:20260422T123451
CREATED:20250403T162000Z
LAST-MODIFIED:20250403T162133Z
UID:10000052-1751558400-1751562000@sindsegmd.com.br
SUMMARY:Reunião de Comissão Especial de Assuntos Jurídicos e Fiscais
DESCRIPTION:
URL:https://sindsegmd.com.br/evento/reuniao-de-comissao-especial-de-assuntos-juridicos-e-fiscais/
CATEGORIES:Reunião
ATTACH;FMTTYPE=:
END:VEVENT
BEGIN:VEVENT
DTSTART;TZID=America/Sao_Paulo:20250710T130000
DTEND;TZID=America/Sao_Paulo:20250710T140000
DTSTAMP:20260422T123451
CREATED:20250403T163146Z
LAST-MODIFIED:20250403T163146Z
UID:10000057-1752152400-1752156000@sindsegmd.com.br
SUMMARY:Comissão ESG – Governança\, Meio Ambiente e Social
DESCRIPTION:
URL:https://sindsegmd.com.br/evento/comissao-esg-governanca-meio-ambiente-e-social-3/
CATEGORIES:Reunião
ATTACH;FMTTYPE=:
END:VEVENT
BEGIN:VEVENT
DTSTART;TZID=America/Sao_Paulo:20250711T150000
DTEND;TZID=America/Sao_Paulo:20250711T160000
DTSTAMP:20260422T123451
CREATED:20250403T163248Z
LAST-MODIFIED:20250403T163248Z
UID:10000058-1752246000-1752249600@sindsegmd.com.br
SUMMARY:Comissão Técnica de Benefícios (vida\, previdência complementar\, saúde e capitalização)
DESCRIPTION:
URL:https://sindsegmd.com.br/evento/comissao-tecnica-de-beneficios-vida-previdencia-complementar-saude-e-capitalizacao-3/
CATEGORIES:Reunião
ATTACH;FMTTYPE=:
END:VEVENT
END:VCALENDAR