BEGIN:VCALENDAR
VERSION:2.0
PRODID:-//SINDSEG MG/GO/MT/DF - ECPv6.15.20//NONSGML v1.0//EN
CALSCALE:GREGORIAN
METHOD:PUBLISH
X-WR-CALNAME:SINDSEG MG/GO/MT/DF
X-ORIGINAL-URL:https://sindsegmd.com.br
X-WR-CALDESC:Eventos para SINDSEG MG/GO/MT/DF
REFRESH-INTERVAL;VALUE=DURATION:PT1H
X-Robots-Tag:noindex
X-PUBLISHED-TTL:PT1H
BEGIN:VTIMEZONE
TZID:America/Sao_Paulo
BEGIN:STANDARD
TZOFFSETFROM:-0300
TZOFFSETTO:-0300
TZNAME:-03
DTSTART:20240101T000000
END:STANDARD
END:VTIMEZONE
BEGIN:VEVENT
DTSTART;TZID=America/Sao_Paulo:20251008T080000
DTEND;TZID=America/Sao_Paulo:20251008T170000
DTSTAMP:20260422T040804
CREATED:20251007T150835Z
LAST-MODIFIED:20251007T150835Z
UID:10000104-1759910400-1759942800@sindsegmd.com.br
SUMMARY:Pré-COP30
DESCRIPTION:Brasília-DF
URL:https://sindsegmd.com.br/evento/pre-cop30/
CATEGORIES:Evento
ATTACH;FMTTYPE=image/jpeg:https://sindsegmd.com.br/wp-content/uploads/2025/10/Rumo_COP_30_a5c211643a-1.jpg
END:VEVENT
BEGIN:VEVENT
DTSTART;TZID=America/Sao_Paulo:20251009T080000
DTEND;TZID=America/Sao_Paulo:20251009T170000
DTSTAMP:20260422T040804
CREATED:20251007T151016Z
LAST-MODIFIED:20251008T132158Z
UID:10000105-1759996800-1760029200@sindsegmd.com.br
SUMMARY:8º Seminário Jurídico de Seguros
DESCRIPTION:A 8ª Edição do Seminário Jurídico de Seguros ocorrerá em 9 de outubro\, na Escola da Magistratura Federal da 1ª Região\, em Brasília. \nO evento\, coordenado pelo ministro Luis Felipe Salomão\, vice-presidente do Superior Tribunal de Justiça (STJ)\, é promovido pelo Instituto Justiça e & Cidadania\, a Revista Justiça & Cidadania a Escola Nacional de Formação e Aperfeiçoamento de Magistrados (Enfam) em parceria com a CNseg. \nReunindo ministros de tribunais superiores\, especialistas do mercado de seguros\, CEOs das maiores seguradoras do País e membros de agências reguladoras\, o seminário terá como tema central a nova Lei do Contrato de Seguro (Lei nº 15.040/2024). \nO novo marco entra em vigor em 11 de dezembro de 2025 e estabelece um microssistema jurídico próprio para os contratos de seguro\, após 20 anos de discussões no Congresso Nacional. \nEntre os tópicos de debates estão: \nO novo microssistema de seguros privados no Brasil;\nAlterações nos processos de regulação e liquidação de sinistros;\nO tratamento do agravamento de riscos nos contratos;\nDesafios e perspectivas da saúde suplementar.\n>> Os interessados em participar podem se inscrever clicando aqui \nPROGRAMAÇÃO PRELIMINAR \n8h30 – 9h | Credenciamento\n9h às 10h | Abertura\nMinistro Luis Felipe Salomão\, Vice-Presidente do Superior Tribunal de Justiça\nDesembargador Federal Jamil de Jesus Oliveira\, Diretor-Geral da Escola de Magistratura Federal da 1ª Região\nDyogo de Oliveira\, Presidente da Presidente da Confederação Nacional das Empresas de Seguros Gerais\, Previdência Privada e Vida\, Saúde Suplementar e Capitalização (CNseg)\nGlauce Carvalhal\, Diretora Jurídica da CNSeg\n10h às 11h | Painel 1: O Novo Microssistema de Seguros Privados no Brasil\nPalestrantes confirmados: \nMinistro Antonio Carlos Ferreira\, Superior Tribunal de Justiça\nAngélica Carlini\, Coordenadora de Direito da Escola de Negócios e Seguros (ENS)\n11h às 12h30 | Painel 2: A Lei 15.040\, de 2024 – Regulação e Liquidação de Sinistros\nPalestrantes confirmados: \nMinistro Marco Buzzi\, Superior Tribunal de Justiça\nMinistro João Otávio de Noronha\, Superior Tribunal de Justiça\nJéssica Bastos\, Diretora de Organização de Mercado e Regulação de Conduta da Superintendência de Seguros Privados (Susep)\nWashington Bezerra\, Compartilhamento de Documentos\, Fraude e Proteção de Dados Pessoais e Dados Pessoais Sensíveis\n12h30 às 14h | Intervalo para almoço\n14h às 15h30 | Painel 3: Agravamento de Riscos em Seguros de Danos\, Vida e Integridade Física\nPalestrantes confirmados: \nMinistro Paulo Sérgio Domingues\, Superior Tribunal de Justiça\nMinistro Gurgel de Faria\, Superior Tribunal de Justiça\nAntônio Rezende\, Diretor da Federação Nacional de Previdência Privada e Vida (FenaPrevi)\n15h30 às 17h | Painel 4: Saúde Suplementar no Brasil: Perspectivas e Desafios\nPalestrantes confirmados: \nMinistro Ricardo Villas Bôas Cueva\, Superior Tribunal de Justiça\nRaquel Reis\, Presidenta da FenaSaúde\nJuiz Federal Clênio Schulze\, Professor da Escola da Magistratura Federal de Santa Catarina (Esmafesc)\nJosé Vicente Mendonça\, Advogado e Professor da Universidade do Estado do Rio de Janeiro\nDenizar Vianna\, Médico e Professor da Universidade do Estado do Rio de Janeiro\n17h às 17h30 | Encerramento
URL:https://sindsegmd.com.br/evento/8o-seminario-juridico-de-seguros/
CATEGORIES:Evento
ATTACH;FMTTYPE=image/jpeg:https://sindsegmd.com.br/wp-content/uploads/2025/10/8seminariojuridico2_2e37f5f93b.jpg
END:VEVENT
BEGIN:VEVENT
DTSTART;TZID=America/Sao_Paulo:20251009T090000
DTEND;TZID=America/Sao_Paulo:20251009T100000
DTSTAMP:20260422T040804
CREATED:20250407T141421Z
LAST-MODIFIED:20250407T141421Z
UID:10000079-1760000400-1760004000@sindsegmd.com.br
SUMMARY:Reunião Comissão ESG – Governança\, Meio Ambiente e Social
DESCRIPTION:
URL:https://sindsegmd.com.br/evento/reuniao-comissao-esg-governanca-meio-ambiente-e-social/
CATEGORIES:Reunião
ATTACH;FMTTYPE=:
END:VEVENT
BEGIN:VEVENT
DTSTART;TZID=America/Sao_Paulo:20251010T090000
DTEND;TZID=America/Sao_Paulo:20251010T100000
DTSTAMP:20260422T040804
CREATED:20250407T141508Z
LAST-MODIFIED:20250407T141508Z
UID:10000080-1760086800-1760090400@sindsegmd.com.br
SUMMARY:Reunião da Comissão Técnica de Benefícios (vida\, previdência complementar\, saúde e capitalização)
DESCRIPTION:
URL:https://sindsegmd.com.br/evento/reuniao-da-comissao-tecnica-de-beneficios-vida-previdencia-complementar-saude-e-capitalizacao-3/
CATEGORIES:Reunião
ATTACH;FMTTYPE=:
END:VEVENT
BEGIN:VEVENT
DTSTART;VALUE=DATE:20251012
DTEND;VALUE=DATE:20251013
DTSTAMP:20260422T040804
CREATED:20250407T141749Z
LAST-MODIFIED:20250407T141749Z
UID:10000081-1760227200-1760313599@sindsegmd.com.br
SUMMARY:Dia do Corretor de Seguros
DESCRIPTION:
URL:https://sindsegmd.com.br/evento/dia-do-corretor-de-seguros/
CATEGORIES:Reunião
ATTACH;FMTTYPE=:
END:VEVENT
BEGIN:VEVENT
DTSTART;TZID=America/Sao_Paulo:20251014T083000
DTEND;TZID=America/Sao_Paulo:20251014T120000
DTSTAMP:20260422T040804
CREATED:20250929T155639Z
LAST-MODIFIED:20250929T155833Z
UID:10000102-1760430600-1760443200@sindsegmd.com.br
SUMMARY:Nova Lei do Seguro (15.040) - Impactos e Perspectivas para o Mercado de Seguros
DESCRIPTION:15.04015.0401O SindSeg MG/GO/MT/DF convida você a participar do evento “Nova Lei do Seguro (15.040)-Impactos e Perspectivas para o Mercado de Seguros”. \nUm encontro exclusivo para debater as mudanças que transformam o setor\, com insights essenciais para corretores\, seguradoras e clientes. \n14 de outubro de 2025\n☕ Café de boas-vindas: 8h30\n🎤 Palestra: 9h00 \nAvenida Afonso Pena\, 726 – 22º andar\, Belo Horizonte/MG \n💻 EVENTO HIBIDRO – haverá transmissão simultânea online no Canal do Yotube do SindSeg\, acesse: www.youtube.com/@sindsegmd \nGaranta sua participação e fique por dentro de tudo que impacta o mercado de seguros! \nAcesse e inscreva-se: https://docs.google.com/forms/d/e/1FAIpQLSe_k73tbwK0CWOqrwC1sm4oC4o0K58LBY0Xkjf7ioUaTKQmaw/viewform?usp=dialog
URL:https://sindsegmd.com.br/evento/nova-lei-do-seguro-15-040-impactos-e-perspectivas-para-o-mercado-de-seguros/
CATEGORIES:Evento
ATTACH;FMTTYPE=image/png:https://sindsegmd.com.br/wp-content/uploads/2025/09/banner-site-SindSeg-400-x-267-px.png
END:VEVENT
BEGIN:VEVENT
DTSTART;TZID=America/Sao_Paulo:20251016T090000
DTEND;TZID=America/Sao_Paulo:20251016T100000
DTSTAMP:20260422T040804
CREATED:20250407T141831Z
LAST-MODIFIED:20250407T141831Z
UID:10000082-1760605200-1760608800@sindsegmd.com.br
SUMMARY:Comissão SindLab – Inovação e Tecnologia
DESCRIPTION:
URL:https://sindsegmd.com.br/evento/comissao-sindlab-inovacao-e-tecnologia-6/
CATEGORIES:Reunião
ATTACH;FMTTYPE=:
END:VEVENT
BEGIN:VEVENT
DTSTART;TZID=America/Sao_Paulo:20251017T090000
DTEND;TZID=America/Sao_Paulo:20251017T100000
DTSTAMP:20260422T040804
CREATED:20250407T141910Z
LAST-MODIFIED:20250407T141910Z
UID:10000083-1760691600-1760695200@sindsegmd.com.br
SUMMARY:Reunião da Comissão Técnica de Seguros de Ramos Elementares (automóveis\, transportes e patrimonial)
DESCRIPTION:
URL:https://sindsegmd.com.br/evento/reuniao-da-comissao-tecnica-de-seguros-de-ramos-elementares-automoveis-transportes-e-patrimonial-2/
CATEGORIES:Reunião
ATTACH;FMTTYPE=:
END:VEVENT
BEGIN:VEVENT
DTSTART;TZID=America/Sao_Paulo:20251019T110000
DTEND;TZID=America/Sao_Paulo:20251019T230000
DTSTAMP:20260422T040804
CREATED:20251007T151212Z
LAST-MODIFIED:20251007T151212Z
UID:10000106-1760871600-1760914800@sindsegmd.com.br
SUMMARY:5º Workshop de Seguros do Estado de Mato Grosso e 9º Troféu Paiaguás
DESCRIPTION: 
URL:https://sindsegmd.com.br/evento/5o-workshop-de-seguros-do-estado-de-mato-grosso-e-9o-trofeu-paiaguas/
CATEGORIES:Reunião
ATTACH;FMTTYPE=:
END:VEVENT
BEGIN:VEVENT
DTSTART;VALUE=DATE:20251020
DTEND;VALUE=DATE:20251021
DTSTAMP:20260422T040804
CREATED:20250407T142012Z
LAST-MODIFIED:20250407T142012Z
UID:10000085-1760918400-1761004799@sindsegmd.com.br
SUMMARY:Dia do Securitário
DESCRIPTION:
URL:https://sindsegmd.com.br/evento/dia-do-securitario/
CATEGORIES:Reunião
ATTACH;FMTTYPE=:
END:VEVENT
BEGIN:VEVENT
DTSTART;TZID=America/Sao_Paulo:20251103T180000
DTEND;TZID=America/Sao_Paulo:20251103T210000
DTSTAMP:20260422T040804
CREATED:20251028T122317Z
LAST-MODIFIED:20251028T122320Z
UID:10000107-1762192800-1762203600@sindsegmd.com.br
SUMMARY:Soft Opening da Casa do Seguro na COP30
DESCRIPTION:CONVITE — Soft Opening da Casa do Seguro na COP30 \nA Confederação Nacional das Seguradoras (CNseg)\, em parceria com a Associação Comercial do Pará (ACP) e com o Sindicato dos Corretores de Seguros do Estado do Pará (SINCOR-PA)\, tem a honra de convidar para o Soft Opening da Casa do Seguro na COP30\, em Belém-PA. \n🗓 03/11/2025 • ⏰ 18h–21h (coquetel) \n📍 Tv. Alferes Costa\, 2828 — Belém-PA \nO objetivo é apresentar as instalações da Casa\, bem como a programação de conteúdo que será realizada durante a COP30\, destacando o papel do setor de seguros na transição climática. \n✅ RSVP: https://curt.link/ABCiw \nA Casa do Seguro na COP30 conta com a participação de 10 Empoderadores\, grupo formado por empresas do mercado segurador comprometidas com a agenda climática: Allianz\, AXA\, BB Seguros\, Bradesco Seguros\, Caixa Seguridade\, MAPFRE\, Marsh McLennan\, Porto\, Prudential e Tokio Marine. \n🔗 casadoseguro.org.br
URL:https://sindsegmd.com.br/evento/soft-opening-da-casa-do-seguro-na-cop30/
CATEGORIES:Evento
ATTACH;FMTTYPE=image/jpeg:https://sindsegmd.com.br/wp-content/uploads/2025/10/WhatsApp-Image-2025-10-28-at-09.13.21.jpeg
END:VEVENT
BEGIN:VEVENT
DTSTART;TZID=America/Sao_Paulo:20251104T090000
DTEND;TZID=America/Sao_Paulo:20251104T100000
DTSTAMP:20260422T040804
CREATED:20250403T165203Z
LAST-MODIFIED:20250404T162219Z
UID:10000071-1762246800-1762250400@sindsegmd.com.br
SUMMARY:Comissão Especial de Assuntos Jurídicos e Fiscais
DESCRIPTION:
URL:https://sindsegmd.com.br/evento/comissao-especial-de-assuntos-juridicos-e-fiscais-4/
CATEGORIES:Reunião
ATTACH;FMTTYPE=:
END:VEVENT
BEGIN:VEVENT
DTSTART;TZID=America/Sao_Paulo:20251106T140000
DTEND;TZID=America/Sao_Paulo:20251106T150000
DTSTAMP:20260422T040804
CREATED:20250407T141945Z
LAST-MODIFIED:20251013T134347Z
UID:10000084-1762437600-1762441200@sindsegmd.com.br
SUMMARY:Reunião Diretoria
DESCRIPTION: 
URL:https://sindsegmd.com.br/evento/reuniao-diretoria-7/
CATEGORIES:Reunião
ATTACH;FMTTYPE=:
END:VEVENT
BEGIN:VEVENT
DTSTART;VALUE=DATE:20251110
DTEND;VALUE=DATE:20251122
DTSTAMP:20260422T040804
CREATED:20251105T162028Z
LAST-MODIFIED:20251112T183700Z
UID:10000109-1762732800-1763769599@sindsegmd.com.br
SUMMARY:COP 30 - A Convenção-Quadro das Nações Unidas sobre Mudança do Clima
DESCRIPTION:A COP30 acontecerá em novembro de 2025\, em Belém (PA).\nA conferência principal ocorre de 10 a 21 de novembro\, mas uma cúpula de líderes está agendada para os dias 6 e 7 de novembro. \nCúpula de Líderes: 6 e 7 de novembro de 2025 \nConferência Principal: 10 a 21 de novembro de 2025 \nLocal: Belém\, Pará \nAcesse https://cop30.br/pt-br e saiba mais.
URL:https://sindsegmd.com.br/evento/cop-30-a-convencao-quadro-das-nacoes-unidas-sobre-mudanca-do-clima/
LOCATION:Belem\, Para\, Belém\, Pará\, Brazil
CATEGORIES:Evento
ATTACH;FMTTYPE=image/png:https://sindsegmd.com.br/wp-content/uploads/2025/11/banner-site-SindSeg-400-x-267-px.png
END:VEVENT
BEGIN:VEVENT
DTSTART;TZID=America/Sao_Paulo:20251111T080000
DTEND;TZID=America/Sao_Paulo:20251112T210000
DTSTAMP:20260422T040804
CREATED:20251028T190559Z
LAST-MODIFIED:20251028T190656Z
UID:10000108-1762848000-1762981200@sindsegmd.com.br
SUMMARY:CQCS Insurtech & Inovação
DESCRIPTION:🚀 O futuro do mercado de seguros começa agora! ✨ \n🗓️ Nos dias 11 e 12 de novembro de 2025\, acontece em São Paulo o CQCS Inovação 2025\, o maior evento de inovação em seguros da América Latina. 🌎 \nUma oportunidade única para conectar profissionais\, empresas e ideias que estão transformando o setor\, reunindo tendências\, tecnologia e conhecimento em um só lugar. \nSaiba mais em 👉 cqcsinovacao.com.br
URL:https://sindsegmd.com.br/evento/cqcs-insurtech-inovacao/
CATEGORIES:Evento
ATTACH;FMTTYPE=image/png:https://sindsegmd.com.br/wp-content/uploads/2025/10/CQCS-INOVACao-1.png
END:VEVENT
BEGIN:VEVENT
DTSTART;TZID=America/Sao_Paulo:20251113T090000
DTEND;TZID=America/Sao_Paulo:20251113T100000
DTSTAMP:20260422T040804
CREATED:20250403T165348Z
LAST-MODIFIED:20250404T162144Z
UID:10000072-1763024400-1763028000@sindsegmd.com.br
SUMMARY:Comissão ESG – Governança\, Meio Ambiente e Social
DESCRIPTION:
URL:https://sindsegmd.com.br/evento/comissao-esg-governanca-meio-ambiente-e-social-6/
CATEGORIES:Reunião
ATTACH;FMTTYPE=:
END:VEVENT
BEGIN:VEVENT
DTSTART;TZID=America/Sao_Paulo:20251114T090000
DTEND;TZID=America/Sao_Paulo:20251114T100000
DTSTAMP:20260422T040804
CREATED:20250403T165438Z
LAST-MODIFIED:20250404T162055Z
UID:10000073-1763110800-1763114400@sindsegmd.com.br
SUMMARY:Comissão Técnica de Benefícios (vida\, previdência complementar\, saúde e capitalização)
DESCRIPTION:
URL:https://sindsegmd.com.br/evento/comissao-tecnica-de-beneficios-vida-previdencia-complementar-saude-e-capitalizacao-6/
CATEGORIES:Reunião
ATTACH;FMTTYPE=:
END:VEVENT
BEGIN:VEVENT
DTSTART;TZID=America/Sao_Paulo:20251119T190000
DTEND;TZID=America/Sao_Paulo:20251119T230000
DTSTAMP:20260422T040804
CREATED:20251001T141314Z
LAST-MODIFIED:20251006T194701Z
UID:10000103-1763578800-1763593200@sindsegmd.com.br
SUMMARY:Entrega da Medalha do Mérito Segurador
DESCRIPTION:Um momento especial para homenagear aqueles que se destacaram pela sua contribuição ao setor de seguros. Um momento único\, exclusivo e especial\, dedicado a reconhecer e valorizar quem faz a diferença. \nEvento Exclusivo para convidados.
URL:https://sindsegmd.com.br/evento/entrega-da-medalha-do-merito-segurador-2/
CATEGORIES:Evento
ATTACH;FMTTYPE=image/png:https://sindsegmd.com.br/wp-content/uploads/2025/10/banner-site-SindSeg-400-x-267-px-2.png
END:VEVENT
BEGIN:VEVENT
DTSTART;TZID=America/Sao_Paulo:20251127T200000
DTEND;TZID=America/Sao_Paulo:20251127T233000
DTSTAMP:20260422T040804
CREATED:20251117T142140Z
LAST-MODIFIED:20251117T142215Z
UID:10000110-1764273600-1764286200@sindsegmd.com.br
SUMMARY:22º TROFÉU ALVORADA
DESCRIPTION:XXII TROFÉU ALVORADACORRETORES DO FUTURO \n27.11.2025 • 20h \nReconhecendo a excelência que atravessagerações e avança para o novo. \nTraje Passeio Completo(All Black) \nChácara Recanto das ÁguasSMPW Q8\, Conjunto 3 – Park Way – Brasília/DF
URL:https://sindsegmd.com.br/evento/22o-trofeu-alvorada/
CATEGORIES:Evento
ATTACH;FMTTYPE=image/png:https://sindsegmd.com.br/wp-content/uploads/2025/11/image.png
END:VEVENT
BEGIN:VEVENT
DTSTART;TZID=America/Sao_Paulo:20251128T090000
DTEND;TZID=America/Sao_Paulo:20251128T100000
DTSTAMP:20260422T040804
CREATED:20250403T165634Z
LAST-MODIFIED:20250404T134754Z
UID:10000075-1764320400-1764324000@sindsegmd.com.br
SUMMARY:Comissão Técnica de Seguros de Ramos Elementares (automóveis\, transportes e patrimonial)
DESCRIPTION:
URL:https://sindsegmd.com.br/evento/comissao-tecnica-de-seguros-de-ramos-elementares-automoveis-transportes-e-patrimonial-6/
CATEGORIES:Reunião
ATTACH;FMTTYPE=:
END:VEVENT
BEGIN:VEVENT
DTSTART;TZID=America/Sao_Paulo:20251128T200000
DTEND;TZID=America/Sao_Paulo:20251128T233000
DTSTAMP:20260422T040804
CREATED:20251117T142518Z
LAST-MODIFIED:20251117T142633Z
UID:10000111-1764360000-1764372600@sindsegmd.com.br
SUMMARY:32ª Confraternização Anual dos Corretores de Seguros de Goiás e Mercado de Seguros e 21ª Edição do Prêmio Bandeirante
DESCRIPTION:🎉 32ª Confraternização Anual dos Corretores de Seguros e do Mercado de Seguros de Goiás\n✨ 21ª Edição do Prêmio Bandeirante \nÉ com grande alegria que convidamos você para celebrar conosco um ano de conquistas\, união e fortalecimento da nossa categoria. 🌟\nSerá uma noite especial de confraternização\, reconhecimento e networking entre profissionais que fazem a diferença no mercado de seguros. 🤝 \n🏆 Premiação Prêmio Bandeirante\nUma homenagem aos destaques do mercado segurador em Goiás\, que se destacaram pela excelência e compromisso. \n📅 Data: 28/11/2025\n🕒 Horário: 20h30\n📍 Local: BELLA EVENTOS\nEndereço: Rua 1.134 QD 242 LT 5/6\, Setor Marista\, Goiânia-Goiás.\n💼 Traje: Social / Esporte Fino \n🎟️ Convites: \nCada corretor associado (PF ou PJ) adimplentes\, tem direito a compra de 2 convites.\n💲 Valor individual do convite: R$150\,00 (Associados) e R$ 300\,00 para Corretores de Seguros não Associados. \n🚗 Importante:\nSugerimos que todos utilizem transporte por aplicativo\, pois o local não possui estacionamento. \nVenha celebrar\, brindar e fortalecer ainda mais a nossa união! 🥂\nSua presença torna este momento ainda mais especial. 💙 \nMaiores informações no Whatsapp: (62) 99863- 3326.
URL:https://sindsegmd.com.br/evento/32a-confraternizacao-anual-dos-corretores-de-seguros-de-goias-e-mercado-de-seguros-e-21a-edicao-do-premio-bandeirante/
CATEGORIES:Evento
ATTACH;FMTTYPE=image/png:https://sindsegmd.com.br/wp-content/uploads/2025/11/image-1.png
END:VEVENT
BEGIN:VEVENT
DTSTART;VALUE=DATE:20260109
DTEND;VALUE=DATE:20260110
DTSTAMP:20260422T040804
CREATED:20260109T140357Z
LAST-MODIFIED:20260109T140749Z
UID:10000173-1767945600-1767978000@sindsegmd.com.br
SUMMARY:Lançamento da Agenda Jurídica do Mercado Segurador
DESCRIPTION:Apresentação do posicionamento da CNseg sobre temas relevantes do mercado segurador em análise pelo STF. O lançamento da 3ª edição da Agenda Jurídica fortalece o diálogo qualificado entre o setor e os órgãos do Judiciário. \nRio de Janeiro – RJ
URL:https://sindsegmd.com.br/evento/lancamento-da-agenda-juridica-do-mercado-segurador/
CATEGORIES:Evento
ATTACH;FMTTYPE=image/png:https://sindsegmd.com.br/wp-content/uploads/2026/01/1.png
END:VEVENT
BEGIN:VEVENT
DTSTART;TZID=America/Sao_Paulo:20260206T090000
DTEND;TZID=America/Sao_Paulo:20260206T100000
DTSTAMP:20260422T040804
CREATED:20260106T155240Z
LAST-MODIFIED:20260127T113913Z
UID:10000179-1770368400-1770372000@sindsegmd.com.br
SUMMARY:Reunião Comissão de Benefícios
DESCRIPTION: 
URL:https://sindsegmd.com.br/evento/reuniao-comissao-de-beneficios/2026-02-06/
CATEGORIES:Reunião
ATTACH;FMTTYPE=:
END:VEVENT
BEGIN:VEVENT
DTSTART;TZID=America/Sao_Paulo:20260206T090000
DTEND;TZID=America/Sao_Paulo:20260206T100000
DTSTAMP:20260422T040804
CREATED:20260106T171447Z
LAST-MODIFIED:20260106T171447Z
UID:10000143-1770368400-1770372000@sindsegmd.com.br
SUMMARY:Reunião Comissão Jurídica
DESCRIPTION:
URL:https://sindsegmd.com.br/evento/reuniao-comissao-juridica/2026-02-06/
CATEGORIES:Reunião
ATTACH;FMTTYPE=:
END:VEVENT
BEGIN:VEVENT
DTSTART;TZID=America/Sao_Paulo:20260212T090000
DTEND;TZID=America/Sao_Paulo:20260212T100000
DTSTAMP:20260422T040804
CREATED:20260106T165704Z
LAST-MODIFIED:20260106T165704Z
UID:10000133-1770886800-1770890400@sindsegmd.com.br
SUMMARY:Reunião Comissão ESG
DESCRIPTION:
URL:https://sindsegmd.com.br/evento/reuniao-comissao-esg/2026-02-12/
CATEGORIES:Reunião
ATTACH;FMTTYPE=:
END:VEVENT
BEGIN:VEVENT
DTSTART;TZID=America/Sao_Paulo:20260226T090000
DTEND;TZID=America/Sao_Paulo:20260226T100000
DTSTAMP:20260422T040804
CREATED:20260106T172706Z
LAST-MODIFIED:20260106T172706Z
UID:10000163-1772096400-1772100000@sindsegmd.com.br
SUMMARY:Reunião SindLab
DESCRIPTION:
URL:https://sindsegmd.com.br/evento/reuniao-sindlab/2026-02-26/
CATEGORIES:Reunião
ATTACH;FMTTYPE=:
END:VEVENT
BEGIN:VEVENT
DTSTART;TZID=America/Sao_Paulo:20260227T090000
DTEND;TZID=America/Sao_Paulo:20260227T100000
DTSTAMP:20260422T040804
CREATED:20260106T172046Z
LAST-MODIFIED:20260106T172046Z
UID:10000153-1772182800-1772186400@sindsegmd.com.br
SUMMARY:Reunião Comissão Ramos Elementares
DESCRIPTION:
URL:https://sindsegmd.com.br/evento/reuniao-comissao-ramos-elementares/2026-02-27/
CATEGORIES:Reunião
ATTACH;FMTTYPE=:
END:VEVENT
BEGIN:VEVENT
DTSTART;TZID=America/Sao_Paulo:20260227T140000
DTEND;TZID=America/Sao_Paulo:20260227T160000
DTSTAMP:20260422T040804
CREATED:20260109T124542Z
LAST-MODIFIED:20260109T124543Z
UID:10000112-1772200800-1772208000@sindsegmd.com.br
SUMMARY:Reunião Diretoria
DESCRIPTION: 
URL:https://sindsegmd.com.br/evento/reuniao-diretoria-8-2/
CATEGORIES:Reunião
ATTACH;FMTTYPE=:
END:VEVENT
BEGIN:VEVENT
DTSTART;TZID=America/Sao_Paulo:20260306T090000
DTEND;TZID=America/Sao_Paulo:20260306T100000
DTSTAMP:20260422T040804
CREATED:20260106T171447Z
LAST-MODIFIED:20260106T171447Z
UID:10000144-1772787600-1772791200@sindsegmd.com.br
SUMMARY:Reunião Comissão Jurídica
DESCRIPTION:
URL:https://sindsegmd.com.br/evento/reuniao-comissao-juridica/2026-03-06/
CATEGORIES:Reunião
ATTACH;FMTTYPE=:
END:VEVENT
BEGIN:VEVENT
DTSTART;VALUE=DATE:20260311
DTEND;VALUE=DATE:20260312
DTSTAMP:20260422T040804
CREATED:20260109T140647Z
LAST-MODIFIED:20260109T140647Z
UID:10000174-1773187200-1773273599@sindsegmd.com.br
SUMMARY:Seguros\, Crédito e Agronegócio: Proteção Rural e Novos Instrumentos de Financiamento
DESCRIPTION:Encontro dedicado a discutir estratégias para impulsionar o agronegócio por meio de soluções inovadoras em financiamento e proteção. A iniciativa destaca a integração entre os setores de seguros\, crédito e produção agrícola\, visando fortalecer o seguro rural e ampliar os investimentos na produção brasileira. \nBrasília – DF
URL:https://sindsegmd.com.br/evento/seguros-credito-e-agronegocio-protecao-rural-e-novos-instrumentos-de-financiamento/
CATEGORIES:Evento
ATTACH;FMTTYPE=image/png:https://sindsegmd.com.br/wp-content/uploads/2026/01/2.png
END:VEVENT
END:VCALENDAR