BEGIN:VCALENDAR
VERSION:2.0
PRODID:-//SINDSEG MG/GO/MT/DF - ECPv6.15.20//NONSGML v1.0//EN
CALSCALE:GREGORIAN
METHOD:PUBLISH
X-ORIGINAL-URL:https://sindsegmd.com.br
X-WR-CALDESC:Eventos para SINDSEG MG/GO/MT/DF
REFRESH-INTERVAL;VALUE=DURATION:PT1H
X-Robots-Tag:noindex
X-PUBLISHED-TTL:PT1H
BEGIN:VTIMEZONE
TZID:America/Sao_Paulo
BEGIN:STANDARD
TZOFFSETFROM:-0300
TZOFFSETTO:-0300
TZNAME:-03
DTSTART:20250101T000000
END:STANDARD
END:VTIMEZONE
BEGIN:VEVENT
DTSTART;VALUE=DATE:20260311
DTEND;VALUE=DATE:20260312
DTSTAMP:20260421T222025
CREATED:20260109T140647Z
LAST-MODIFIED:20260109T140647Z
UID:10000174-1773187200-1773273599@sindsegmd.com.br
SUMMARY:Seguros\, Crédito e Agronegócio: Proteção Rural e Novos Instrumentos de Financiamento
DESCRIPTION:Encontro dedicado a discutir estratégias para impulsionar o agronegócio por meio de soluções inovadoras em financiamento e proteção. A iniciativa destaca a integração entre os setores de seguros\, crédito e produção agrícola\, visando fortalecer o seguro rural e ampliar os investimentos na produção brasileira. \nBrasília – DF
URL:https://sindsegmd.com.br/evento/seguros-credito-e-agronegocio-protecao-rural-e-novos-instrumentos-de-financiamento/
CATEGORIES:Evento
ATTACH;FMTTYPE=image/png:https://sindsegmd.com.br/wp-content/uploads/2026/01/2.png
END:VEVENT
BEGIN:VEVENT
DTSTART;TZID=America/Sao_Paulo:20260312T090000
DTEND;TZID=America/Sao_Paulo:20260312T100000
DTSTAMP:20260421T222025
CREATED:20260106T165704Z
LAST-MODIFIED:20260106T165704Z
UID:10000134-1773306000-1773309600@sindsegmd.com.br
SUMMARY:Reunião Comissão ESG
DESCRIPTION:
URL:https://sindsegmd.com.br/evento/reuniao-comissao-esg/2026-03-12/
CATEGORIES:Reunião
ATTACH;FMTTYPE=:
END:VEVENT
BEGIN:VEVENT
DTSTART;TZID=America/Sao_Paulo:20260313T090000
DTEND;TZID=America/Sao_Paulo:20260313T100000
DTSTAMP:20260421T222025
CREATED:20260106T155240Z
LAST-MODIFIED:20260127T113913Z
UID:10000124-1773392400-1773396000@sindsegmd.com.br
SUMMARY:Reunião Comissão de Benefícios
DESCRIPTION: 
URL:https://sindsegmd.com.br/evento/reuniao-comissao-de-beneficios/2026-03-13/
CATEGORIES:Reunião
ATTACH;FMTTYPE=:
END:VEVENT
BEGIN:VEVENT
DTSTART;TZID=America/Sao_Paulo:20260319T090000
DTEND;TZID=America/Sao_Paulo:20260319T100000
DTSTAMP:20260421T222025
CREATED:20260106T172706Z
LAST-MODIFIED:20260106T172706Z
UID:10000164-1773910800-1773914400@sindsegmd.com.br
SUMMARY:Reunião SindLab
DESCRIPTION:
URL:https://sindsegmd.com.br/evento/reuniao-sindlab/2026-03-19/
CATEGORIES:Reunião
ATTACH;FMTTYPE=:
END:VEVENT
BEGIN:VEVENT
DTSTART;TZID=America/Sao_Paulo:20260320T090000
DTEND;TZID=America/Sao_Paulo:20260320T100000
DTSTAMP:20260421T222025
CREATED:20260106T172046Z
LAST-MODIFIED:20260106T172046Z
UID:10000154-1773997200-1774000800@sindsegmd.com.br
SUMMARY:Reunião Comissão Ramos Elementares
DESCRIPTION:
URL:https://sindsegmd.com.br/evento/reuniao-comissao-ramos-elementares/2026-03-20/
CATEGORIES:Reunião
ATTACH;FMTTYPE=:
END:VEVENT
BEGIN:VEVENT
DTSTART;TZID=America/Sao_Paulo:20260320T140000
DTEND;TZID=America/Sao_Paulo:20260320T160000
DTSTAMP:20260421T222025
CREATED:20260106T133554Z
LAST-MODIFIED:20260106T133554Z
UID:10000113-1774015200-1774022400@sindsegmd.com.br
SUMMARY:Reunião Diretoria
DESCRIPTION: 
URL:https://sindsegmd.com.br/evento/reuniao-diretoria-8/2026-03-20/
CATEGORIES:Reunião
ATTACH;FMTTYPE=:
END:VEVENT
BEGIN:VEVENT
DTSTART;TZID=America/Sao_Paulo:20260324T090000
DTEND;TZID=America/Sao_Paulo:20260324T113000
DTSTAMP:20260421T222025
CREATED:20260226T151614Z
LAST-MODIFIED:20260311T140914Z
UID:10000180-1774342800-1774351800@sindsegmd.com.br
SUMMARY:Mulheres que Transformam: Liderança\, Voz e Impacto
DESCRIPTION:✨ No dia 24 de março\, das 9h às 11h30\, o SindSeg abrirá as portas para um encontro que irá inspirar\, conectar e fortalecer. \n“Mulheres que Transformam: Liderança\, Voz e Impacto” é um talk show interativo com mulheres do mercado segurador\, com mediação de Andréia Padovani\, pensado para promover diálogo\, troca real de experiências e reflexões sobre os desafios e conquistas da trajetória feminina. \nMais do que um evento\, um momento de conexão\, reconhecimento e integração entre profissionais que fazem a diferença todos os dias. \nINFORMAÇÕES:\n📍 Auditório do SindSeg\n🎭 Seguido de brunch\n📝 Inscrições até 19/03 \nGaranta sua participação. As vagas são limitadas. \nInscrições gratuitas em https://forms.gle/cyyzVBdtDBBoQbxx9
URL:https://sindsegmd.com.br/evento/mulheres-que-transformam-lideranca-voz-e-impacto/
CATEGORIES:Evento
ATTACH;FMTTYPE=image/png:https://sindsegmd.com.br/wp-content/uploads/2026/02/banner-eventos-site-sindseg-400-x-267-px.png
END:VEVENT
BEGIN:VEVENT
DTSTART;VALUE=DATE:20260325
DTEND;VALUE=DATE:20260326
DTSTAMP:20260421T222025
CREATED:20260109T140937Z
LAST-MODIFIED:20260109T140937Z
UID:10000175-1774396800-1774483199@sindsegmd.com.br
SUMMARY:Lançamento da Agenda Institucional do Mercado Segurador
DESCRIPTION:Lançamento da 4ª edição da Agenda Institucional\, reunindo parlamentares\, executivos de seguradoras e representantes governamentais\, reforçando o compromisso do mercado segurador com transparência e governança junto aos poderes Executivo e Legislativo em todas as esferas. \nBrasília – DF
URL:https://sindsegmd.com.br/evento/lancamento-da-agenda-institucional-do-mercado-segurador/
CATEGORIES:Evento
ATTACH;FMTTYPE=image/png:https://sindsegmd.com.br/wp-content/uploads/2026/01/3.png
END:VEVENT
BEGIN:VEVENT
DTSTART;TZID=America/Sao_Paulo:20260406T090000
DTEND;TZID=America/Sao_Paulo:20260406T100000
DTSTAMP:20260421T222025
CREATED:20260106T171447Z
LAST-MODIFIED:20260106T171447Z
UID:10000145-1775466000-1775469600@sindsegmd.com.br
SUMMARY:Reunião Comissão Jurídica
DESCRIPTION:
URL:https://sindsegmd.com.br/evento/reuniao-comissao-juridica/2026-04-06/
CATEGORIES:Reunião
ATTACH;FMTTYPE=:
END:VEVENT
BEGIN:VEVENT
DTSTART;TZID=America/Sao_Paulo:20260409T090000
DTEND;TZID=America/Sao_Paulo:20260409T100000
DTSTAMP:20260421T222025
CREATED:20260106T165704Z
LAST-MODIFIED:20260106T165704Z
UID:10000135-1775725200-1775728800@sindsegmd.com.br
SUMMARY:Reunião Comissão ESG
DESCRIPTION:
URL:https://sindsegmd.com.br/evento/reuniao-comissao-esg/2026-04-09/
CATEGORIES:Reunião
ATTACH;FMTTYPE=:
END:VEVENT
BEGIN:VEVENT
DTSTART;TZID=America/Sao_Paulo:20260410T090000
DTEND;TZID=America/Sao_Paulo:20260410T100000
DTSTAMP:20260421T222025
CREATED:20260106T155240Z
LAST-MODIFIED:20260127T113913Z
UID:10000125-1775811600-1775815200@sindsegmd.com.br
SUMMARY:Reunião Comissão de Benefícios
DESCRIPTION: 
URL:https://sindsegmd.com.br/evento/reuniao-comissao-de-beneficios/2026-04-10/
CATEGORIES:Reunião
ATTACH;FMTTYPE=:
END:VEVENT
BEGIN:VEVENT
DTSTART;TZID=America/Sao_Paulo:20260416T090000
DTEND;TZID=America/Sao_Paulo:20260416T100000
DTSTAMP:20260421T222025
CREATED:20260106T172706Z
LAST-MODIFIED:20260106T172706Z
UID:10000165-1776330000-1776333600@sindsegmd.com.br
SUMMARY:Reunião SindLab
DESCRIPTION:
URL:https://sindsegmd.com.br/evento/reuniao-sindlab/2026-04-16/
CATEGORIES:Reunião
ATTACH;FMTTYPE=:
END:VEVENT
BEGIN:VEVENT
DTSTART;TZID=America/Sao_Paulo:20260417T090000
DTEND;TZID=America/Sao_Paulo:20260417T100000
DTSTAMP:20260421T222025
CREATED:20260106T172046Z
LAST-MODIFIED:20260106T172046Z
UID:10000155-1776416400-1776420000@sindsegmd.com.br
SUMMARY:Reunião Comissão Ramos Elementares
DESCRIPTION:
URL:https://sindsegmd.com.br/evento/reuniao-comissao-ramos-elementares/2026-04-17/
CATEGORIES:Reunião
ATTACH;FMTTYPE=:
END:VEVENT
BEGIN:VEVENT
DTSTART;TZID=America/Sao_Paulo:20260417T140000
DTEND;TZID=America/Sao_Paulo:20260417T160000
DTSTAMP:20260421T222025
CREATED:20260106T133554Z
LAST-MODIFIED:20260106T133554Z
UID:10000114-1776434400-1776441600@sindsegmd.com.br
SUMMARY:Reunião Diretoria
DESCRIPTION: 
URL:https://sindsegmd.com.br/evento/reuniao-diretoria-8/2026-04-17/
CATEGORIES:Reunião
ATTACH;FMTTYPE=:
END:VEVENT
BEGIN:VEVENT
DTSTART;TZID=America/Sao_Paulo:20260504T090000
DTEND;TZID=America/Sao_Paulo:20260504T100000
DTSTAMP:20260421T222025
CREATED:20260106T171447Z
LAST-MODIFIED:20260106T171447Z
UID:10000146-1777885200-1777888800@sindsegmd.com.br
SUMMARY:Reunião Comissão Jurídica
DESCRIPTION:
URL:https://sindsegmd.com.br/evento/reuniao-comissao-juridica/2026-05-04/
CATEGORIES:Reunião
ATTACH;FMTTYPE=:
END:VEVENT
BEGIN:VEVENT
DTSTART;TZID=America/Sao_Paulo:20260508T090000
DTEND;TZID=America/Sao_Paulo:20260508T100000
DTSTAMP:20260421T222025
CREATED:20260106T155240Z
LAST-MODIFIED:20260127T113913Z
UID:10000126-1778230800-1778234400@sindsegmd.com.br
SUMMARY:Reunião Comissão de Benefícios
DESCRIPTION: 
URL:https://sindsegmd.com.br/evento/reuniao-comissao-de-beneficios/2026-05-08/
CATEGORIES:Reunião
ATTACH;FMTTYPE=:
END:VEVENT
BEGIN:VEVENT
DTSTART;TZID=America/Sao_Paulo:20260514T090000
DTEND;TZID=America/Sao_Paulo:20260514T100000
DTSTAMP:20260421T222025
CREATED:20260106T165704Z
LAST-MODIFIED:20260106T165704Z
UID:10000136-1778749200-1778752800@sindsegmd.com.br
SUMMARY:Reunião Comissão ESG
DESCRIPTION:
URL:https://sindsegmd.com.br/evento/reuniao-comissao-esg/2026-05-14/
CATEGORIES:Reunião
ATTACH;FMTTYPE=:
END:VEVENT
BEGIN:VEVENT
DTSTART;TZID=America/Sao_Paulo:20260515T140000
DTEND;TZID=America/Sao_Paulo:20260515T160000
DTSTAMP:20260421T222025
CREATED:20260106T133554Z
LAST-MODIFIED:20260106T133554Z
UID:10000115-1778853600-1778860800@sindsegmd.com.br
SUMMARY:Reunião Diretoria
DESCRIPTION: 
URL:https://sindsegmd.com.br/evento/reuniao-diretoria-8/2026-05-15/
CATEGORIES:Reunião
ATTACH;FMTTYPE=:
END:VEVENT
BEGIN:VEVENT
DTSTART;TZID=America/Sao_Paulo:20260519T080000
DTEND;TZID=America/Sao_Paulo:20260520T170000
DTSTAMP:20260421T222025
CREATED:20260109T141044Z
LAST-MODIFIED:20260109T141044Z
UID:10000176-1779177600-1779296400@sindsegmd.com.br
SUMMARY:Encontro de Resseguro do Rio de Janeiro
DESCRIPTION:Encontro de lideranças de seguros e resseguros para discutir mudanças políticas\, econômicas\, regulatórias e ambientais e seus impactos no setor. \nCentro de Convenções & Hotéis Windsor
URL:https://sindsegmd.com.br/evento/encontro-de-resseguro-do-rio-de-janeiro/
CATEGORIES:Evento
ATTACH;FMTTYPE=image/png:https://sindsegmd.com.br/wp-content/uploads/2026/01/4.png
END:VEVENT
BEGIN:VEVENT
DTSTART;TZID=America/Sao_Paulo:20260521T090000
DTEND;TZID=America/Sao_Paulo:20260521T100000
DTSTAMP:20260421T222025
CREATED:20260106T172706Z
LAST-MODIFIED:20260106T172706Z
UID:10000166-1779354000-1779357600@sindsegmd.com.br
SUMMARY:Reunião SindLab
DESCRIPTION:
URL:https://sindsegmd.com.br/evento/reuniao-sindlab/2026-05-21/
CATEGORIES:Reunião
ATTACH;FMTTYPE=:
END:VEVENT
BEGIN:VEVENT
DTSTART;TZID=America/Sao_Paulo:20260522T090000
DTEND;TZID=America/Sao_Paulo:20260522T100000
DTSTAMP:20260421T222025
CREATED:20260106T172046Z
LAST-MODIFIED:20260106T172046Z
UID:10000156-1779440400-1779444000@sindsegmd.com.br
SUMMARY:Reunião Comissão Ramos Elementares
DESCRIPTION:
URL:https://sindsegmd.com.br/evento/reuniao-comissao-ramos-elementares/2026-05-22/
CATEGORIES:Reunião
ATTACH;FMTTYPE=:
END:VEVENT
BEGIN:VEVENT
DTSTART;VALUE=DATE:20260603
DTEND;VALUE=DATE:20260604
DTSTAMP:20260421T222025
CREATED:20260109T141233Z
LAST-MODIFIED:20260109T141233Z
UID:10000177-1780444800-1780531199@sindsegmd.com.br
SUMMARY:Brasil - Portugal Fórum de Seguros 2026
DESCRIPTION:Realizado em parceria com a Associação Portuguesa de Seguradores (APS)\, em sua 1ª edição\, o evento tem como objetivo promover oportunidades de cooperação e intercâmbio bilateral no setor de seguros entre os dois países. \nLisboa
URL:https://sindsegmd.com.br/evento/brasil-portugal-forum-de-seguros-2026/
CATEGORIES:Evento
ATTACH;FMTTYPE=image/png:https://sindsegmd.com.br/wp-content/uploads/2026/01/5.png
END:VEVENT
BEGIN:VEVENT
DTSTART;TZID=America/Sao_Paulo:20260608T090000
DTEND;TZID=America/Sao_Paulo:20260608T100000
DTSTAMP:20260421T222025
CREATED:20260106T171447Z
LAST-MODIFIED:20260106T171447Z
UID:10000147-1780909200-1780912800@sindsegmd.com.br
SUMMARY:Reunião Comissão Jurídica
DESCRIPTION:
URL:https://sindsegmd.com.br/evento/reuniao-comissao-juridica/2026-06-08/
CATEGORIES:Reunião
ATTACH;FMTTYPE=:
END:VEVENT
BEGIN:VEVENT
DTSTART;TZID=America/Sao_Paulo:20260611T090000
DTEND;TZID=America/Sao_Paulo:20260611T100000
DTSTAMP:20260421T222025
CREATED:20260106T165704Z
LAST-MODIFIED:20260106T165704Z
UID:10000137-1781168400-1781172000@sindsegmd.com.br
SUMMARY:Reunião Comissão ESG
DESCRIPTION:
URL:https://sindsegmd.com.br/evento/reuniao-comissao-esg/2026-06-11/
CATEGORIES:Reunião
ATTACH;FMTTYPE=:
END:VEVENT
BEGIN:VEVENT
DTSTART;TZID=America/Sao_Paulo:20260612T090000
DTEND;TZID=America/Sao_Paulo:20260612T100000
DTSTAMP:20260421T222025
CREATED:20260106T155240Z
LAST-MODIFIED:20260127T113913Z
UID:10000127-1781254800-1781258400@sindsegmd.com.br
SUMMARY:Reunião Comissão de Benefícios
DESCRIPTION: 
URL:https://sindsegmd.com.br/evento/reuniao-comissao-de-beneficios/2026-06-12/
CATEGORIES:Reunião
ATTACH;FMTTYPE=:
END:VEVENT
BEGIN:VEVENT
DTSTART;TZID=America/Sao_Paulo:20260618T090000
DTEND;TZID=America/Sao_Paulo:20260618T100000
DTSTAMP:20260421T222025
CREATED:20260106T172706Z
LAST-MODIFIED:20260106T172706Z
UID:10000167-1781773200-1781776800@sindsegmd.com.br
SUMMARY:Reunião SindLab
DESCRIPTION:
URL:https://sindsegmd.com.br/evento/reuniao-sindlab/2026-06-18/
CATEGORIES:Reunião
ATTACH;FMTTYPE=:
END:VEVENT
BEGIN:VEVENT
DTSTART;TZID=America/Sao_Paulo:20260619T090000
DTEND;TZID=America/Sao_Paulo:20260619T100000
DTSTAMP:20260421T222025
CREATED:20260106T172046Z
LAST-MODIFIED:20260106T172046Z
UID:10000157-1781859600-1781863200@sindsegmd.com.br
SUMMARY:Reunião Comissão Ramos Elementares
DESCRIPTION:
URL:https://sindsegmd.com.br/evento/reuniao-comissao-ramos-elementares/2026-06-19/
CATEGORIES:Reunião
ATTACH;FMTTYPE=:
END:VEVENT
BEGIN:VEVENT
DTSTART;TZID=America/Sao_Paulo:20260619T140000
DTEND;TZID=America/Sao_Paulo:20260619T160000
DTSTAMP:20260421T222025
CREATED:20260106T133554Z
LAST-MODIFIED:20260106T133554Z
UID:10000116-1781877600-1781884800@sindsegmd.com.br
SUMMARY:Reunião Diretoria
DESCRIPTION: 
URL:https://sindsegmd.com.br/evento/reuniao-diretoria-8/2026-06-19/
CATEGORIES:Reunião
ATTACH;FMTTYPE=:
END:VEVENT
BEGIN:VEVENT
DTSTART;VALUE=DATE:20260623
DTEND;VALUE=DATE:20260624
DTSTAMP:20260421T222025
CREATED:20260109T141329Z
LAST-MODIFIED:20260109T141329Z
UID:10000178-1782172800-1782259199@sindsegmd.com.br
SUMMARY:Brazil - UK Insurance Forum 2026
DESCRIPTION:A 2ª edição do Brazil – UK Insurance Forum é resultado da parceria entre a Associação Britânica de Seguradoras (ABI) e a CNseg. Criado em 2024\, o encontro tem como propósito identificar oportunidades de crescimento do setor de seguros\, considerando o ambiente de negócios do Brasil e do Reino Unido\, bem como suas respectivas competências. \nLondres
URL:https://sindsegmd.com.br/evento/brazil-uk-insurance-forum-2026/
CATEGORIES:Evento
ATTACH;FMTTYPE=image/png:https://sindsegmd.com.br/wp-content/uploads/2026/01/6.png
END:VEVENT
BEGIN:VEVENT
DTSTART;TZID=America/Sao_Paulo:20260703T090000
DTEND;TZID=America/Sao_Paulo:20260703T100000
DTSTAMP:20260421T222025
CREATED:20260106T171447Z
LAST-MODIFIED:20260106T171447Z
UID:10000148-1783069200-1783072800@sindsegmd.com.br
SUMMARY:Reunião Comissão Jurídica
DESCRIPTION:
URL:https://sindsegmd.com.br/evento/reuniao-comissao-juridica/2026-07-03/
CATEGORIES:Reunião
ATTACH;FMTTYPE=:
END:VEVENT
END:VCALENDAR