BEGIN:VCALENDAR
VERSION:2.0
PRODID:-//SINDSEG MG/GO/MT/DF - ECPv6.15.20//NONSGML v1.0//EN
CALSCALE:GREGORIAN
METHOD:PUBLISH
X-WR-CALNAME:SINDSEG MG/GO/MT/DF
X-ORIGINAL-URL:https://sindsegmd.com.br
X-WR-CALDESC:Eventos para SINDSEG MG/GO/MT/DF
REFRESH-INTERVAL;VALUE=DURATION:PT1H
X-Robots-Tag:noindex
X-PUBLISHED-TTL:PT1H
BEGIN:VTIMEZONE
TZID:America/Sao_Paulo
BEGIN:STANDARD
TZOFFSETFROM:-0300
TZOFFSETTO:-0300
TZNAME:-03
DTSTART:20230101T000000
END:STANDARD
END:VTIMEZONE
BEGIN:VEVENT
DTSTART;VALUE=DATE:20240613
DTEND;VALUE=DATE:20240614
DTSTAMP:20260422T195258
CREATED:20240613T140403Z
LAST-MODIFIED:20240613T140436Z
UID:10000011-1718236800-1718323199@sindsegmd.com.br
SUMMARY:Workshope Sectcemg
DESCRIPTION:
URL:https://sindsegmd.com.br/evento/workshope-sectcemg/
CATEGORIES:Reunião
ATTACH;FMTTYPE=:
END:VEVENT
BEGIN:VEVENT
DTSTART;VALUE=DATE:20240613
DTEND;VALUE=DATE:20240614
DTSTAMP:20260422T195258
CREATED:20240613T140434Z
LAST-MODIFIED:20240613T140524Z
UID:10000010-1718236800-1718323199@sindsegmd.com.br
SUMMARY:Reunião Comissão Técnica de Benefícios
DESCRIPTION:
URL:https://sindsegmd.com.br/evento/reuniao-comissao-tecnica-de-beneficios/
CATEGORIES:Reunião
ATTACH;FMTTYPE=:
END:VEVENT
BEGIN:VEVENT
DTSTART;VALUE=DATE:20240625
DTEND;VALUE=DATE:20240626
DTSTAMP:20260422T195258
CREATED:20240613T140208Z
LAST-MODIFIED:20240613T140328Z
UID:10000012-1719273600-1719359999@sindsegmd.com.br
SUMMARY:Reunião Diretoria
DESCRIPTION:
URL:https://sindsegmd.com.br/evento/reuniao-diretoria/
CATEGORIES:Reunião
ATTACH;FMTTYPE=:
END:VEVENT
BEGIN:VEVENT
DTSTART;VALUE=DATE:20240628
DTEND;VALUE=DATE:20240629
DTSTAMP:20260422T195258
CREATED:20240613T140716Z
LAST-MODIFIED:20240613T140716Z
UID:10000013-1719532800-1719619199@sindsegmd.com.br
SUMMARY:Reunião de Ramos Elementares
DESCRIPTION:
URL:https://sindsegmd.com.br/evento/reuniao-de-ramos-elementares/
CATEGORIES:Reunião
ATTACH;FMTTYPE=:
END:VEVENT
END:VCALENDAR