BEGIN:VCALENDAR
VERSION:2.0
PRODID:-//SINDSEG MG/GO/MT/DF - ECPv6.15.20//NONSGML v1.0//EN
CALSCALE:GREGORIAN
METHOD:PUBLISH
X-WR-CALNAME:SINDSEG MG/GO/MT/DF
X-ORIGINAL-URL:https://sindsegmd.com.br
X-WR-CALDESC:Eventos para SINDSEG MG/GO/MT/DF
REFRESH-INTERVAL;VALUE=DURATION:PT1H
X-Robots-Tag:noindex
X-PUBLISHED-TTL:PT1H
BEGIN:VTIMEZONE
TZID:America/Sao_Paulo
BEGIN:STANDARD
TZOFFSETFROM:-0300
TZOFFSETTO:-0300
TZNAME:-03
DTSTART:20230101T000000
END:STANDARD
END:VTIMEZONE
BEGIN:VEVENT
DTSTART;VALUE=DATE:20240704
DTEND;VALUE=DATE:20240705
DTSTAMP:20260422T183847
CREATED:20240613T140830Z
LAST-MODIFIED:20240613T140830Z
UID:10000014-1720051200-1720137599@sindsegmd.com.br
SUMMARY:Reunião Comissão Especial de Assuntos Jurídicos e Fiscais
DESCRIPTION:
URL:https://sindsegmd.com.br/evento/reuniao-comissao-especial-de-assuntos-juridicos-e-fiscais/
CATEGORIES:Reunião
ATTACH;FMTTYPE=:
END:VEVENT
BEGIN:VEVENT
DTSTART;VALUE=DATE:20240705
DTEND;VALUE=DATE:20240706
DTSTAMP:20260422T183847
CREATED:20240613T140941Z
LAST-MODIFIED:20240613T140941Z
UID:10000015-1720137600-1720223999@sindsegmd.com.br
SUMMARY:Reunião Comissão SindLab - Inovação e Tecnologia
DESCRIPTION:
URL:https://sindsegmd.com.br/evento/reuniao-comissao-sindlab-inovacao-e-tecnologia/
CATEGORIES:Reunião
ATTACH;FMTTYPE=:
END:VEVENT
BEGIN:VEVENT
DTSTART;VALUE=DATE:20240712
DTEND;VALUE=DATE:20240713
DTSTAMP:20260422T183847
CREATED:20240613T141024Z
LAST-MODIFIED:20240613T141024Z
UID:10000016-1720742400-1720828799@sindsegmd.com.br
SUMMARY:Reunião Comissão Técnica de Benefícios
DESCRIPTION:
URL:https://sindsegmd.com.br/evento/reuniao-comissao-tecnica-de-beneficios-2/
CATEGORIES:Reunião
ATTACH;FMTTYPE=:
END:VEVENT
BEGIN:VEVENT
DTSTART;VALUE=DATE:20240719
DTEND;VALUE=DATE:20240720
DTSTAMP:20260422T183847
CREATED:20240613T141059Z
LAST-MODIFIED:20240613T141059Z
UID:10000017-1721347200-1721433599@sindsegmd.com.br
SUMMARY:Reunião Diretoria
DESCRIPTION:
URL:https://sindsegmd.com.br/evento/reuniao-diretoria-2/
CATEGORIES:Reunião
ATTACH;FMTTYPE=:
END:VEVENT
BEGIN:VEVENT
DTSTART;VALUE=DATE:20240726
DTEND;VALUE=DATE:20240727
DTSTAMP:20260422T183847
CREATED:20240613T141145Z
LAST-MODIFIED:20240613T141145Z
UID:10000018-1721952000-1722038399@sindsegmd.com.br
SUMMARY:Reunião Técnica de Seguros de Ramos Elementares
DESCRIPTION:
URL:https://sindsegmd.com.br/evento/reuniao-tecnica-de-seguros-de-ramos-elementares/
CATEGORIES:Reunião
ATTACH;FMTTYPE=:
END:VEVENT
END:VCALENDAR