BEGIN:VCALENDAR
VERSION:2.0
PRODID:-//SINDSEG MG/GO/MT/DF - ECPv6.15.20//NONSGML v1.0//EN
CALSCALE:GREGORIAN
METHOD:PUBLISH
X-WR-CALNAME:SINDSEG MG/GO/MT/DF
X-ORIGINAL-URL:https://sindsegmd.com.br
X-WR-CALDESC:Eventos para SINDSEG MG/GO/MT/DF
REFRESH-INTERVAL;VALUE=DURATION:PT1H
X-Robots-Tag:noindex
X-PUBLISHED-TTL:PT1H
BEGIN:VTIMEZONE
TZID:America/Sao_Paulo
BEGIN:STANDARD
TZOFFSETFROM:-0300
TZOFFSETTO:-0300
TZNAME:-03
DTSTART:20240101T000000
END:STANDARD
END:VTIMEZONE
BEGIN:VEVENT
DTSTART;TZID=America/Sao_Paulo:20250311T083000
DTEND;TZID=America/Sao_Paulo:20250311T120000
DTSTAMP:20260419T122502
CREATED:20250227T165239Z
LAST-MODIFIED:20250227T165315Z
UID:10000026-1741681800-1741694400@sindsegmd.com.br
SUMMARY:Cerimônia de posse da nova diretoria
DESCRIPTION:
URL:https://sindsegmd.com.br/evento/cerimonia-de-posse-da-nova-diretoria/
LOCATION:Sede da SINDSEG\, Av. Afonso Pena\, 726 - 22 Andar\, Belo Horizonte\, Minas Gerais\, 30130902\, Brazil
CATEGORIES:Evento
ATTACH;FMTTYPE=image/png:https://sindsegmd.com.br/wp-content/uploads/2025/02/banner-site-SindSeg.png
END:VEVENT
BEGIN:VEVENT
DTSTART;TZID=America/Sao_Paulo:20250313T083000
DTEND;TZID=America/Sao_Paulo:20250313T123000
DTSTAMP:20260419T122502
CREATED:20250227T132143Z
LAST-MODIFIED:20250227T132925Z
UID:10000025-1741854600-1741869000@sindsegmd.com.br
SUMMARY:Mulheres em Foco - Imagem\, Inspiração e Impacto
DESCRIPTION:Mulheres em Foco – Imagem\, Inspiração e Impacto\nEvento exclusivo para mulheres\, com Julian Couto.Dia 13 de março de 2025\, às 08h30\, na sede do sindicato.Clique aqui e garanta a sua inscrição! \n\n											\n															Clique na imagem para efetuar a sua inscrição!\n\n											\n															Toque na imagem para efetuar a sua inscrição!
URL:https://sindsegmd.com.br/evento/mulheres-em-foco-imagem-inspiracao-e-impacto/
LOCATION:Sede da SINDSEG\, Av. Afonso Pena\, 726 - 22 Andar\, Belo Horizonte\, Minas Gerais\, 30130902\, Brazil
CATEGORIES:Evento
ATTACH;FMTTYPE=image/png:https://sindsegmd.com.br/wp-content/uploads/2025/02/mulheres_em_foco.png
END:VEVENT
END:VCALENDAR