BEGIN:VCALENDAR
VERSION:2.0
PRODID:-//SINDSEG MG/GO/MT/DF - ECPv6.15.20//NONSGML v1.0//EN
CALSCALE:GREGORIAN
METHOD:PUBLISH
X-ORIGINAL-URL:https://sindsegmd.com.br
X-WR-CALDESC:Eventos para SINDSEG MG/GO/MT/DF
REFRESH-INTERVAL;VALUE=DURATION:PT1H
X-Robots-Tag:noindex
X-PUBLISHED-TTL:PT1H
BEGIN:VTIMEZONE
TZID:America/Sao_Paulo
BEGIN:STANDARD
TZOFFSETFROM:-0300
TZOFFSETTO:-0300
TZNAME:-03
DTSTART:20240101T000000
END:STANDARD
END:VTIMEZONE
BEGIN:VEVENT
DTSTART;TZID=America/Sao_Paulo:20250904T133000
DTEND;TZID=America/Sao_Paulo:20250904T143000
DTSTAMP:20260419T201439
CREATED:20250403T164337Z
LAST-MODIFIED:20250403T164337Z
UID:10000066-1756992600-1756996200@sindsegmd.com.br
SUMMARY:Comissão Especial de Assuntos Jurídicos e Fiscais
DESCRIPTION:
URL:https://sindsegmd.com.br/evento/comissao-especial-de-assuntos-juridicos-e-fiscais-3/
CATEGORIES:Reunião
ATTACH;FMTTYPE=:
END:VEVENT
BEGIN:VEVENT
DTSTART;TZID=America/Sao_Paulo:20250911T080000
DTEND;TZID=America/Sao_Paulo:20250911T170000
DTSTAMP:20260419T201439
CREATED:20250403T164441Z
LAST-MODIFIED:20250403T164441Z
UID:10000067-1757577600-1757610000@sindsegmd.com.br
SUMMARY:Comissão ESG – Governança\, Meio Ambiente e Social
DESCRIPTION:
URL:https://sindsegmd.com.br/evento/comissao-esg-governanca-meio-ambiente-e-social-5/
CATEGORIES:Reunião
ATTACH;FMTTYPE=:
END:VEVENT
BEGIN:VEVENT
DTSTART;TZID=America/Sao_Paulo:20250912T150000
DTEND;TZID=America/Sao_Paulo:20250912T160000
DTSTAMP:20260419T201439
CREATED:20250403T164537Z
LAST-MODIFIED:20250403T164537Z
UID:10000068-1757689200-1757692800@sindsegmd.com.br
SUMMARY:Comissão Técnica de Benefícios (vida\, previdência complementar\, saúde e capitalização)
DESCRIPTION:
URL:https://sindsegmd.com.br/evento/comissao-tecnica-de-beneficios-vida-previdencia-complementar-saude-e-capitalizacao-5/
CATEGORIES:Reunião
ATTACH;FMTTYPE=:
END:VEVENT
BEGIN:VEVENT
DTSTART;TZID=America/Sao_Paulo:20250918T160000
DTEND;TZID=America/Sao_Paulo:20250918T170000
DTSTAMP:20260419T201439
CREATED:20250403T164624Z
LAST-MODIFIED:20250403T164624Z
UID:10000069-1758211200-1758214800@sindsegmd.com.br
SUMMARY:Comissão SindLab – Inovação e Tecnologia
DESCRIPTION:
URL:https://sindsegmd.com.br/evento/comissao-sindlab-inovacao-e-tecnologia-5/
CATEGORIES:Reunião
ATTACH;FMTTYPE=:
END:VEVENT
BEGIN:VEVENT
DTSTART;TZID=America/Sao_Paulo:20250919T090000
DTEND;TZID=America/Sao_Paulo:20250919T100000
DTSTAMP:20260419T201439
CREATED:20250403T164708Z
LAST-MODIFIED:20250404T162317Z
UID:10000070-1758272400-1758276000@sindsegmd.com.br
SUMMARY:Comissão Técnica de Seguros de Ramos Elementares (automóveis\, transportes e patrimonial)
DESCRIPTION:
URL:https://sindsegmd.com.br/evento/comissao-tecnica-de-seguros-de-ramos-elementares-automoveis-transportes-e-patrimonial-5/
CATEGORIES:Reunião
ATTACH;FMTTYPE=:
END:VEVENT
BEGIN:VEVENT
DTSTART;TZID=America/Sao_Paulo:20250919T093000
DTEND;TZID=America/Sao_Paulo:20250919T103000
DTSTAMP:20260419T201439
CREATED:20250403T165957Z
LAST-MODIFIED:20250403T165957Z
UID:10000078-1758274200-1758277800@sindsegmd.com.br
SUMMARY:Reunião Diretoria
DESCRIPTION:
URL:https://sindsegmd.com.br/evento/reuniao-diretoria-6/
CATEGORIES:Reunião
ATTACH;FMTTYPE=:
END:VEVENT
BEGIN:VEVENT
DTSTART;TZID=America/Sao_Paulo:20250925T090000
DTEND;TZID=America/Sao_Paulo:20250927T195604
DTSTAMP:20260419T201439
CREATED:20250521T185109Z
LAST-MODIFIED:20250905T153617Z
UID:10000093-1758790800-1759002964@sindsegmd.com.br
SUMMARY:Conec - 2025
DESCRIPTION:
URL:https://sindsegmd.com.br/evento/conec-2025/
LOCATION:Distrito Anhembi\, Av. Olavo Fontoura\, 1209\, Portão 38 - Santana\, São Paulo\, SP\, Brazil
CATEGORIES:Evento
ATTACH;FMTTYPE=image/png:https://sindsegmd.com.br/wp-content/uploads/2025/05/Vem-ai-o-Conec-2025.png
END:VEVENT
END:VCALENDAR