BEGIN:VCALENDAR
VERSION:2.0
PRODID:-//SINDSEG MG/GO/MT/DF - ECPv6.15.20//NONSGML v1.0//EN
CALSCALE:GREGORIAN
METHOD:PUBLISH
X-ORIGINAL-URL:https://sindsegmd.com.br
X-WR-CALDESC:Eventos para SINDSEG MG/GO/MT/DF
REFRESH-INTERVAL;VALUE=DURATION:PT1H
X-Robots-Tag:noindex
X-PUBLISHED-TTL:PT1H
BEGIN:VTIMEZONE
TZID:America/Sao_Paulo
BEGIN:STANDARD
TZOFFSETFROM:-0300
TZOFFSETTO:-0300
TZNAME:-03
DTSTART:20250101T000000
END:STANDARD
END:VTIMEZONE
BEGIN:VEVENT
DTSTART;TZID=America/Sao_Paulo:20260904T090000
DTEND;TZID=America/Sao_Paulo:20260904T100000
DTSTAMP:20260419T201311
CREATED:20260106T171447Z
LAST-MODIFIED:20260106T171447Z
UID:10000150-1788512400-1788516000@sindsegmd.com.br
SUMMARY:Reunião Comissão Jurídica
DESCRIPTION:
URL:https://sindsegmd.com.br/evento/reuniao-comissao-juridica/2026-09-04/
CATEGORIES:Reunião
ATTACH;FMTTYPE=:
END:VEVENT
BEGIN:VEVENT
DTSTART;TZID=America/Sao_Paulo:20260910T090000
DTEND;TZID=America/Sao_Paulo:20260910T100000
DTSTAMP:20260419T201311
CREATED:20260106T165704Z
LAST-MODIFIED:20260106T165704Z
UID:10000140-1789030800-1789034400@sindsegmd.com.br
SUMMARY:Reunião Comissão ESG
DESCRIPTION:
URL:https://sindsegmd.com.br/evento/reuniao-comissao-esg/2026-09-10/
CATEGORIES:Reunião
ATTACH;FMTTYPE=:
END:VEVENT
BEGIN:VEVENT
DTSTART;TZID=America/Sao_Paulo:20260911T090000
DTEND;TZID=America/Sao_Paulo:20260911T100000
DTSTAMP:20260419T201311
CREATED:20260106T155240Z
LAST-MODIFIED:20260127T113913Z
UID:10000130-1789117200-1789120800@sindsegmd.com.br
SUMMARY:Reunião Comissão de Benefícios
DESCRIPTION: 
URL:https://sindsegmd.com.br/evento/reuniao-comissao-de-beneficios/2026-09-11/
CATEGORIES:Reunião
ATTACH;FMTTYPE=:
END:VEVENT
BEGIN:VEVENT
DTSTART;TZID=America/Sao_Paulo:20260917T090000
DTEND;TZID=America/Sao_Paulo:20260917T100000
DTSTAMP:20260419T201311
CREATED:20260106T172706Z
LAST-MODIFIED:20260106T172706Z
UID:10000170-1789635600-1789639200@sindsegmd.com.br
SUMMARY:Reunião SindLab
DESCRIPTION:
URL:https://sindsegmd.com.br/evento/reuniao-sindlab/2026-09-17/
CATEGORIES:Reunião
ATTACH;FMTTYPE=:
END:VEVENT
BEGIN:VEVENT
DTSTART;TZID=America/Sao_Paulo:20260918T090000
DTEND;TZID=America/Sao_Paulo:20260918T100000
DTSTAMP:20260419T201311
CREATED:20260106T172046Z
LAST-MODIFIED:20260106T172046Z
UID:10000160-1789722000-1789725600@sindsegmd.com.br
SUMMARY:Reunião Comissão Ramos Elementares
DESCRIPTION:
URL:https://sindsegmd.com.br/evento/reuniao-comissao-ramos-elementares/2026-09-18/
CATEGORIES:Reunião
ATTACH;FMTTYPE=:
END:VEVENT
BEGIN:VEVENT
DTSTART;TZID=America/Sao_Paulo:20260918T140000
DTEND;TZID=America/Sao_Paulo:20260918T160000
DTSTAMP:20260419T201311
CREATED:20260106T133554Z
LAST-MODIFIED:20260106T133554Z
UID:10000119-1789740000-1789747200@sindsegmd.com.br
SUMMARY:Reunião Diretoria
DESCRIPTION: 
URL:https://sindsegmd.com.br/evento/reuniao-diretoria-8/2026-09-18/
CATEGORIES:Reunião
ATTACH;FMTTYPE=:
END:VEVENT
END:VCALENDAR